BEGIN:VCALENDAR
VERSION:2.0
PRODID:-//Christ the Vine Lutheran - ECPv6.15.16.1//NONSGML v1.0//EN
CALSCALE:GREGORIAN
METHOD:PUBLISH
X-ORIGINAL-URL:https://christthevinelutheran.org
X-WR-CALDESC:Events for Christ the Vine Lutheran
REFRESH-INTERVAL;VALUE=DURATION:PT1H
X-Robots-Tag:noindex
X-PUBLISHED-TTL:PT1H
BEGIN:VTIMEZONE
TZID:America/Los_Angeles
BEGIN:DAYLIGHT
TZOFFSETFROM:-0800
TZOFFSETTO:-0700
TZNAME:PDT
DTSTART:20250309T100000
END:DAYLIGHT
BEGIN:STANDARD
TZOFFSETFROM:-0700
TZOFFSETTO:-0800
TZNAME:PST
DTSTART:20251102T090000
END:STANDARD
BEGIN:DAYLIGHT
TZOFFSETFROM:-0800
TZOFFSETTO:-0700
TZNAME:PDT
DTSTART:20260308T100000
END:DAYLIGHT
BEGIN:STANDARD
TZOFFSETFROM:-0700
TZOFFSETTO:-0800
TZNAME:PST
DTSTART:20261101T090000
END:STANDARD
BEGIN:DAYLIGHT
TZOFFSETFROM:-0800
TZOFFSETTO:-0700
TZNAME:PDT
DTSTART:20270314T100000
END:DAYLIGHT
BEGIN:STANDARD
TZOFFSETFROM:-0700
TZOFFSETTO:-0800
TZNAME:PST
DTSTART:20271107T090000
END:STANDARD
END:VTIMEZONE
BEGIN:VEVENT
DTSTART;TZID=America/Los_Angeles:20260423T100000
DTEND;TZID=America/Los_Angeles:20260423T110000
DTSTAMP:20260423T172913
CREATED:20260404T173524Z
LAST-MODIFIED:20260404T173524Z
UID:11057-1776938400-1776942000@christthevinelutheran.org
SUMMARY:DISCOVERY Bible Study
DESCRIPTION:Join us every Thursday at 10:00 AM in Classroom D (located just off the Grape Room) for our weekly “Discovery” Bible Class. Led by Pastor Emeritus Mike Kasting\, this study offers a welcoming environment for exploring Scripture together.\n\nWe are currently working through the book of Matthew\, diving deep into the life and teachings of Jesus. Whether you’re new to Bible study or have been studying God’s Word for years\, you’ll find meaningful discussion and fellowship in this group.
URL:https://christthevinelutheran.org/event/discovery-bible-study-14/
LOCATION:Christ the Vine Lutheran Church\, 18677 SE Hwy 212\, Damascus\, Oregon\, 97089\, United States
CATEGORIES:Bible Study
END:VEVENT
BEGIN:VEVENT
DTSTART;TZID=America/Los_Angeles:20260425T150000
DTEND;TZID=America/Los_Angeles:20260425T170000
DTSTAMP:20260423T172913
CREATED:20260404T172431Z
LAST-MODIFIED:20260404T173657Z
UID:11043-1777129200-1777136400@christthevinelutheran.org
SUMMARY:BracnchOut Youth Group
DESCRIPTION:Part 1 of 2 on Prayer
URL:https://christthevinelutheran.org/event/bracnchout-youth-group/
LOCATION:Christ the Vine Lutheran Church\, 18677 SE Hwy 212\, Damascus\, Oregon\, 97089\, United States
CATEGORIES:Youth Ministry
END:VEVENT
BEGIN:VEVENT
DTSTART;TZID=America/Los_Angeles:20260430T100000
DTEND;TZID=America/Los_Angeles:20260430T110000
DTSTAMP:20260423T172913
CREATED:20260404T173604Z
LAST-MODIFIED:20260404T173604Z
UID:11059-1777543200-1777546800@christthevinelutheran.org
SUMMARY:DISCOVERY Bible Study
DESCRIPTION:Join us every Thursday at 10:00 AM in Classroom D (located just off the Grape Room) for our weekly “Discovery” Bible Class. Led by Pastor Emeritus Mike Kasting\, this study offers a welcoming environment for exploring Scripture together.\n\nWe are currently working through the book of Matthew\, diving deep into the life and teachings of Jesus. Whether you’re new to Bible study or have been studying God’s Word for years\, you’ll find meaningful discussion and fellowship in this group.
URL:https://christthevinelutheran.org/event/discovery-bible-study-15/
LOCATION:Christ the Vine Lutheran Church\, 18677 SE Hwy 212\, Damascus\, Oregon\, 97089\, United States
CATEGORIES:Bible Study
END:VEVENT
BEGIN:VEVENT
DTSTART;TZID=America/Los_Angeles:20260509T090000
DTEND;TZID=America/Los_Angeles:20260509T120000
DTSTAMP:20260423T172913
CREATED:20260125T215202Z
LAST-MODIFIED:20260125T215202Z
UID:10726-1778317200-1778328000@christthevinelutheran.org
SUMMARY:Backpack Buddies
DESCRIPTION:We provide nutritious\, child-friendly\, and easy-to-prepare food to food-insecure students for take-home over weekends and holidays in our community. This program aims to bridge the gap when school meals are unavailable and serves K-12 students with bags packed with items like canned meals\, snacks\, and fruits. We pack 200 bags a month and welcome all the help we can get!If you have any questions\, please contact Mardie Jensen.
URL:https://christthevinelutheran.org/event/backpack-buddies-6/
LOCATION:Christ the Vine Lutheran Church\, 18677 SE Hwy 212\, Damascus\, Oregon\, 97089\, United States
CATEGORIES:Mission & Outreach
END:VEVENT
BEGIN:VEVENT
DTSTART;TZID=America/Los_Angeles:20260516T163000
DTEND;TZID=America/Los_Angeles:20260516T203000
DTSTAMP:20260423T172913
CREATED:20251003T221200Z
LAST-MODIFIED:20260201T050926Z
UID:10178-1778949000-1778963400@christthevinelutheran.org
SUMMARY:Mission Auction: Entwined in Missions
DESCRIPTION:More information coming.\n\nThis is a ticketed event. Tickets can be purchased at the church.
URL:https://christthevinelutheran.org/event/mission-auction/
LOCATION:Christ the Vine Lutheran Church\, 18677 SE Hwy 212\, Damascus\, Oregon\, 97089\, United States
CATEGORIES:Special Church Event
END:VEVENT
BEGIN:VEVENT
DTSTART;TZID=America/Los_Angeles:20260523T150000
DTEND;TZID=America/Los_Angeles:20260523T170000
DTSTAMP:20260423T172913
CREATED:20260404T172540Z
LAST-MODIFIED:20260404T172540Z
UID:11045-1779548400-1779555600@christthevinelutheran.org
SUMMARY:BranchOut Youth Group
DESCRIPTION:Part 2 of 2 on Prayer
URL:https://christthevinelutheran.org/event/branchout-youth-group-3/
LOCATION:Christ the Vine Lutheran Church\, 18677 SE Hwy 212\, Damascus\, Oregon\, 97089\, United States
CATEGORIES:Youth Ministry
END:VEVENT
BEGIN:VEVENT
DTSTART;TZID=America/Los_Angeles:20260524T093000
DTEND;TZID=America/Los_Angeles:20260524T110000
DTSTAMP:20260423T172913
CREATED:20260201T051253Z
LAST-MODIFIED:20260201T051253Z
UID:10840-1779615000-1779620400@christthevinelutheran.org
SUMMARY:Pentecost | Confirmation Sunday
DESCRIPTION:
URL:https://christthevinelutheran.org/event/pentecost-confirmation-sunday/
LOCATION:Oregon
CATEGORIES:Worship Service
END:VEVENT
BEGIN:VEVENT
DTSTART;VALUE=DATE:20260626
DTEND;VALUE=DATE:20260629
DTSTAMP:20260423T172913
CREATED:20250926T180746Z
LAST-MODIFIED:20250926T180746Z
UID:10113-1782432000-1782691199@christthevinelutheran.org
SUMMARY:LWML: Oregon District Convention
DESCRIPTION:
URL:https://christthevinelutheran.org/event/lwml-oregon-district-convention/
LOCATION:St. Paul Lutheran Church & School\, 750 W Keady Ct\, Roseburg\, OR\, 97471\, United States
CATEGORIES:Women's Ministry
END:VEVENT
BEGIN:VEVENT
DTSTART;TZID=America/Los_Angeles:20260628T153000
DTEND;TZID=America/Los_Angeles:20260628T190000
DTSTAMP:20260423T172913
CREATED:20260404T172822Z
LAST-MODIFIED:20260404T172822Z
UID:11047-1782660600-1782673200@christthevinelutheran.org
SUMMARY:BranchOut Youth Group Family BBQ
DESCRIPTION:We are gathering to celebrate a great year and welcoming in our new 6th graders.\n\nFood\, swimming\, and fellowship!\n\nSee Megan Gray for more details
URL:https://christthevinelutheran.org/event/branchout-youth-group-family-bbq/
LOCATION:Oregon
CATEGORIES:Youth Ministry
END:VEVENT
END:VCALENDAR