BEGIN:VCALENDAR
VERSION:2.0
PRODID:-//Christ the Vine Lutheran - ECPv6.15.16.1//NONSGML v1.0//EN
CALSCALE:GREGORIAN
METHOD:PUBLISH
X-ORIGINAL-URL:https://christthevinelutheran.org
X-WR-CALDESC:Events for Christ the Vine Lutheran
REFRESH-INTERVAL;VALUE=DURATION:PT1H
X-Robots-Tag:noindex
X-PUBLISHED-TTL:PT1H
BEGIN:VTIMEZONE
TZID:America/Los_Angeles
BEGIN:DAYLIGHT
TZOFFSETFROM:-0800
TZOFFSETTO:-0700
TZNAME:PDT
DTSTART:20240310T100000
END:DAYLIGHT
BEGIN:STANDARD
TZOFFSETFROM:-0700
TZOFFSETTO:-0800
TZNAME:PST
DTSTART:20241103T090000
END:STANDARD
BEGIN:DAYLIGHT
TZOFFSETFROM:-0800
TZOFFSETTO:-0700
TZNAME:PDT
DTSTART:20250309T100000
END:DAYLIGHT
BEGIN:STANDARD
TZOFFSETFROM:-0700
TZOFFSETTO:-0800
TZNAME:PST
DTSTART:20251102T090000
END:STANDARD
BEGIN:DAYLIGHT
TZOFFSETFROM:-0800
TZOFFSETTO:-0700
TZNAME:PDT
DTSTART:20260308T100000
END:DAYLIGHT
BEGIN:STANDARD
TZOFFSETFROM:-0700
TZOFFSETTO:-0800
TZNAME:PST
DTSTART:20261101T090000
END:STANDARD
BEGIN:DAYLIGHT
TZOFFSETFROM:-0800
TZOFFSETTO:-0700
TZNAME:PDT
DTSTART:20270314T100000
END:DAYLIGHT
BEGIN:STANDARD
TZOFFSETFROM:-0700
TZOFFSETTO:-0800
TZNAME:PST
DTSTART:20271107T090000
END:STANDARD
END:VTIMEZONE
BEGIN:VEVENT
DTSTART;TZID=America/Los_Angeles:20260213T150000
DTEND;TZID=America/Los_Angeles:20260213T170000
DTSTAMP:20260423T160353
CREATED:20251229T212100Z
LAST-MODIFIED:20251229T212100Z
UID:10581-1770994800-1771002000@christthevinelutheran.org
SUMMARY:BranchOut Youth Group
DESCRIPTION:
URL:https://christthevinelutheran.org/event/branchout-youth-group-2/
LOCATION:Christ the Vine Lutheran Church\, 18677 SE Hwy 212\, Damascus\, Oregon\, 97089\, United States
CATEGORIES:Youth Ministry
END:VEVENT
BEGIN:VEVENT
DTSTART;TZID=America/Los_Angeles:20260110T090000
DTEND;TZID=America/Los_Angeles:20260110T230000
DTSTAMP:20260423T160353
CREATED:20251221T225702Z
LAST-MODIFIED:20251221T225702Z
UID:10517-1768035600-1768086000@christthevinelutheran.org
SUMMARY:BranchOut Youth Group
DESCRIPTION:
URL:https://christthevinelutheran.org/event/branchout-youth-group/
LOCATION:Christ the Vine Lutheran Church\, 18677 SE Hwy 212\, Damascus\, Oregon\, 97089\, United States
CATEGORIES:Youth Ministry
END:VEVENT
BEGIN:VEVENT
DTSTART;TZID=America/Los_Angeles:20251122T153000
DTEND;TZID=America/Los_Angeles:20251122T170000
DTSTAMP:20260423T160353
CREATED:20251026T214019Z
LAST-MODIFIED:20251108T003747Z
UID:10281-1763825400-1763830800@christthevinelutheran.org
SUMMARY:BranchOut Youth: Friendsgiving
DESCRIPTION:Join us for a special Friendsgiving celebration with your BranchOut family!\n\nEvent Details\n\n 	Who: All students in 6th-12th grade\n 	When: Saturday\, November 22\, 3:30-5:00 pm\n 	Where: Christ the Vine Lutheran Church\n 	Cost: Free (bring a dish to share!)\n\nWhat to Bring\n\nEach student is asked to bring a dish\, snack\, or drink to share for our Friendsgiving feast! Whether it’s your favorite side dish\, a dessert\, chips\, or beverages – all contributions are welcome.\n\nWhat We’ll Do\n\n 	Friendsgiving Meal – Share a delicious meal together and celebrate what we’re thankful for\n 	Bible Study – Continue our BibleProject series: “The Art of Biblical Words” – discovering the deeper meaning behind the words of Scripture\n\nWhy Come?\n\nThis is more than just a meal – it’s a chance to gather with friends\, give thanks together\, and dive deeper into God’s Word. Whether you’ve been to BranchOut before or this is your first time\, you’re invited to the table!\nBring a friend\, bring a dish\, and bring your appetite for both food and faith!\n\nQuestions? Contact Megan Gray at edu.board.christthevine@gmail.com
URL:https://christthevinelutheran.org/event/branchout-youth-friendsgiving/
LOCATION:Christ the Vine Lutheran Church\, 18677 SE Hwy 212\, Damascus\, Oregon\, 97089\, United States
CATEGORIES:Youth Ministry
ATTACH;FMTTYPE=image/png:https://christthevinelutheran.org/wp-content/uploads/2025/10/rejoice-always-pray-without-ceasing-give-thanks-in-all-circumstances-for-this-is-the-will-of-god-in-christ-jesus-for-you.-1-thessalonians-518-2.png
END:VEVENT
BEGIN:VEVENT
DTSTART;TZID=America/Los_Angeles:20250920T140000
DTEND;TZID=America/Los_Angeles:20250920T170000
DTSTAMP:20260423T160353
CREATED:20250926T175033Z
LAST-MODIFIED:20250926T175033Z
UID:10098-1758376800-1758387600@christthevinelutheran.org
SUMMARY:2025 VBS Reunion: True North
DESCRIPTION:Ascension\, Beautiful Savior\, and Christ the Vine Lutheran Churches are inviting all our VBS kids back to reconnect and celebrate the friendships and faith we shared this summer!\nDidn’t attend VBS this year? No problem\, join us anyway!
URL:https://christthevinelutheran.org/event/2025-vbs-reunion-true-north/
LOCATION:Christ the Vine Lutheran Church\, 18677 SE Hwy 212\, Damascus\, Oregon\, 97089\, United States
CATEGORIES:Family Activities,Youth Ministry
END:VEVENT
END:VCALENDAR