BEGIN:VCALENDAR
VERSION:2.0
PRODID:-//Christ the Vine Lutheran - ECPv6.15.16.1//NONSGML v1.0//EN
CALSCALE:GREGORIAN
METHOD:PUBLISH
X-ORIGINAL-URL:https://christthevinelutheran.org
X-WR-CALDESC:Events for Christ the Vine Lutheran
REFRESH-INTERVAL;VALUE=DURATION:PT1H
X-Robots-Tag:noindex
X-PUBLISHED-TTL:PT1H
BEGIN:VTIMEZONE
TZID:America/Los_Angeles
BEGIN:DAYLIGHT
TZOFFSETFROM:-0800
TZOFFSETTO:-0700
TZNAME:PDT
DTSTART:20240310T100000
END:DAYLIGHT
BEGIN:STANDARD
TZOFFSETFROM:-0700
TZOFFSETTO:-0800
TZNAME:PST
DTSTART:20241103T090000
END:STANDARD
BEGIN:DAYLIGHT
TZOFFSETFROM:-0800
TZOFFSETTO:-0700
TZNAME:PDT
DTSTART:20250309T100000
END:DAYLIGHT
BEGIN:STANDARD
TZOFFSETFROM:-0700
TZOFFSETTO:-0800
TZNAME:PST
DTSTART:20251102T090000
END:STANDARD
BEGIN:DAYLIGHT
TZOFFSETFROM:-0800
TZOFFSETTO:-0700
TZNAME:PDT
DTSTART:20260308T100000
END:DAYLIGHT
BEGIN:STANDARD
TZOFFSETFROM:-0700
TZOFFSETTO:-0800
TZNAME:PST
DTSTART:20261101T090000
END:STANDARD
END:VTIMEZONE
BEGIN:VEVENT
DTSTART;TZID=America/Los_Angeles:20251224T180000
DTEND;TZID=America/Los_Angeles:20251224T193000
DTSTAMP:20260423T155607
CREATED:20251102T223704Z
LAST-MODIFIED:20251102T223704Z
UID:10357-1766599200-1766604600@christthevinelutheran.org
SUMMARY:Christmas Eve Service
DESCRIPTION:
URL:https://christthevinelutheran.org/event/christmas-eve-service/
LOCATION:Christ the Vine Lutheran Church\, 18677 SE Hwy 212\, Damascus\, Oregon\, 97089\, United States
CATEGORIES:Special Church Event,Worship Service
ATTACH;FMTTYPE=image/jpeg:https://christthevinelutheran.org/wp-content/uploads/2018/12/Christmas-2015.jpg
END:VEVENT
BEGIN:VEVENT
DTSTART;TZID=America/Los_Angeles:20251217T181500
DTEND;TZID=America/Los_Angeles:20251217T200000
DTSTAMP:20260423T155607
CREATED:20251102T223149Z
LAST-MODIFIED:20251102T223149Z
UID:10349-1765995300-1766001600@christthevinelutheran.org
SUMMARY:Advent Mid-Week Service & Potluck
DESCRIPTION:6:15 PM – Potluck Dinner: Bring a dish to share as we gather in fellowship during this Advent season. \n7:00 PM – Worship Service We’ll come together for a time of worship\, reflection\, and prayer as we prepare our hearts for Christmas.
URL:https://christthevinelutheran.org/event/advent-mid-week-service-potluck-3/
LOCATION:Christ the Vine Lutheran Church\, 18677 SE Hwy 212\, Damascus\, Oregon\, 97089\, United States
CATEGORIES:Worship Service
ATTACH;FMTTYPE=image/png:https://christthevinelutheran.org/wp-content/uploads/2024/12/advent-sunday-3.png
END:VEVENT
BEGIN:VEVENT
DTSTART;TZID=America/Los_Angeles:20251210T181500
DTEND;TZID=America/Los_Angeles:20251210T200000
DTSTAMP:20260423T155607
CREATED:20251102T223044Z
LAST-MODIFIED:20251102T223044Z
UID:10347-1765390500-1765396800@christthevinelutheran.org
SUMMARY:Advent Mid-Week Service & Potluck
DESCRIPTION:6:15 PM – Potluck Dinner: Bring a dish to share as we gather in fellowship during this Advent season. \n7:00 PM – Worship Service We’ll come together for a time of worship\, reflection\, and prayer as we prepare our hearts for Christmas.
URL:https://christthevinelutheran.org/event/advent-mid-week-service-potluck-2/
LOCATION:Christ the Vine Lutheran Church\, 18677 SE Hwy 212\, Damascus\, Oregon\, 97089\, United States
CATEGORIES:Worship Service
ATTACH;FMTTYPE=image/png:https://christthevinelutheran.org/wp-content/uploads/2024/12/advent-sunday-2.png
END:VEVENT
BEGIN:VEVENT
DTSTART;TZID=America/Los_Angeles:20251203T181500
DTEND;TZID=America/Los_Angeles:20251203T200000
DTSTAMP:20260423T155607
CREATED:20251102T222927Z
LAST-MODIFIED:20251102T222927Z
UID:10345-1764785700-1764792000@christthevinelutheran.org
SUMMARY:Advent Mid-Week Service & Potluck
DESCRIPTION:6:15 PM – Potluck Dinner: Bring a dish to share as we gather in fellowship during this Advent season. \n7:00 PM – Worship Service We’ll come together for a time of worship\, reflection\, and prayer as we prepare our hearts for Christmas.
URL:https://christthevinelutheran.org/event/advent-mid-week-service-potluck/
LOCATION:Christ the Vine Lutheran Church\, 18677 SE Hwy 212\, Damascus\, Oregon\, 97089\, United States
CATEGORIES:Worship Service
ATTACH;FMTTYPE=image/png:https://christthevinelutheran.org/wp-content/uploads/2024/12/advent-sunday-1.png
END:VEVENT
END:VCALENDAR