BEGIN:VCALENDAR
VERSION:2.0
PRODID:-//Christ the Vine Lutheran - ECPv6.15.16.1//NONSGML v1.0//EN
CALSCALE:GREGORIAN
METHOD:PUBLISH
X-ORIGINAL-URL:https://christthevinelutheran.org
X-WR-CALDESC:Events for Christ the Vine Lutheran
REFRESH-INTERVAL;VALUE=DURATION:PT1H
X-Robots-Tag:noindex
X-PUBLISHED-TTL:PT1H
BEGIN:VTIMEZONE
TZID:America/Los_Angeles
BEGIN:DAYLIGHT
TZOFFSETFROM:-0800
TZOFFSETTO:-0700
TZNAME:PDT
DTSTART:20240310T100000
END:DAYLIGHT
BEGIN:STANDARD
TZOFFSETFROM:-0700
TZOFFSETTO:-0800
TZNAME:PST
DTSTART:20241103T090000
END:STANDARD
BEGIN:DAYLIGHT
TZOFFSETFROM:-0800
TZOFFSETTO:-0700
TZNAME:PDT
DTSTART:20250309T100000
END:DAYLIGHT
BEGIN:STANDARD
TZOFFSETFROM:-0700
TZOFFSETTO:-0800
TZNAME:PST
DTSTART:20251102T090000
END:STANDARD
BEGIN:DAYLIGHT
TZOFFSETFROM:-0800
TZOFFSETTO:-0700
TZNAME:PDT
DTSTART:20260308T100000
END:DAYLIGHT
BEGIN:STANDARD
TZOFFSETFROM:-0700
TZOFFSETTO:-0800
TZNAME:PST
DTSTART:20261101T090000
END:STANDARD
BEGIN:DAYLIGHT
TZOFFSETFROM:-0800
TZOFFSETTO:-0700
TZNAME:PDT
DTSTART:20270314T100000
END:DAYLIGHT
BEGIN:STANDARD
TZOFFSETFROM:-0700
TZOFFSETTO:-0800
TZNAME:PST
DTSTART:20271107T090000
END:STANDARD
END:VTIMEZONE
BEGIN:VEVENT
DTSTART;TZID=America/Los_Angeles:20260405T080000
DTEND;TZID=America/Los_Angeles:20260405T170000
DTSTAMP:20260423T143620
CREATED:20260125T224809Z
LAST-MODIFIED:20260201T050609Z
UID:10794-1775376000-1775408400@christthevinelutheran.org
SUMMARY:Easter Services
DESCRIPTION:He is Risen! Join us to celebrate!\n\nWe offer two worship services. Both services include our brass band and choir.\n\n 	8 am service with communion\n 	11 am service featuring puppets.\n\nBetween services\, breakfast is available 9:30 am – 11 am\n\nChildren are invited to participate in our Easter egg hunt at 10 am.\n\nWe look forward to celebrating the resurrection with you!
URL:https://christthevinelutheran.org/event/easter-services/
LOCATION:Christ the Vine Lutheran Church\, 18677 SE Hwy 212\, Damascus\, Oregon\, 97089\, United States
CATEGORIES:Family Activities,Worship Service
ATTACH;FMTTYPE=image/png:https://christthevinelutheran.org/wp-content/uploads/2026/01/lcms-media-kit-holy-week-we-preach-christ-crucified-option-a-social-media-shareable-easter-e1769381369838.png
END:VEVENT
BEGIN:VEVENT
DTSTART;TZID=America/Los_Angeles:20260403T190000
DTEND;TZID=America/Los_Angeles:20260403T200000
DTSTAMP:20260423T143620
CREATED:20260125T224517Z
LAST-MODIFIED:20260201T050043Z
UID:10788-1775242800-1775246400@christthevinelutheran.org
SUMMARY:Good Friday Service
DESCRIPTION:Join us for our Good Friday Tenebrae service\, a moving candlelit worship experience as we contemplate Christ’s passion and sacrifice. We invite you to be part of this solemn and sacred observance.
URL:https://christthevinelutheran.org/event/good-friday-service/
LOCATION:Christ the Vine Lutheran Church\, 18677 SE Hwy 212\, Damascus\, Oregon\, 97089\, United States
CATEGORIES:Worship Service
ATTACH;FMTTYPE=image/png:https://christthevinelutheran.org/wp-content/uploads/2026/01/lcms-media-kit-holy-week-we-preach-christ-crucified-option-a-social-media-shareable-good-friday-e1769381106972.png
END:VEVENT
BEGIN:VEVENT
DTSTART;TZID=America/Los_Angeles:20260402T190000
DTEND;TZID=America/Los_Angeles:20260402T200000
DTSTAMP:20260423T143620
CREATED:20260125T224411Z
LAST-MODIFIED:20260201T045928Z
UID:10785-1775156400-1775160000@christthevinelutheran.org
SUMMARY:Maundy Thursday Service
DESCRIPTION:Join us for our Maundy Thursday service. We gather to remember Christ’s last meal with his disciples and his commandment to love one another.
URL:https://christthevinelutheran.org/event/maundy-thursday-service/
LOCATION:Christ the Vine Lutheran Church\, 18677 SE Hwy 212\, Damascus\, Oregon\, 97089\, United States
CATEGORIES:Worship Service
ATTACH;FMTTYPE=image/png:https://christthevinelutheran.org/wp-content/uploads/2026/01/lcms-media-kit-holy-week-we-preach-christ-crucified-option-a-social-media-shareable-maundy-thursday-e1769381042436.png
END:VEVENT
BEGIN:VEVENT
DTSTART;TZID=America/Los_Angeles:20260329T093000
DTEND;TZID=America/Los_Angeles:20260329T233000
DTSTAMP:20260423T143620
CREATED:20260125T224256Z
LAST-MODIFIED:20260201T045803Z
UID:10783-1774776600-1774827000@christthevinelutheran.org
SUMMARY:Palm Sunday
DESCRIPTION:Join us for Palm Sunday as we celebrate with a procession of palms and live brass band music. We look forward to seeing you there!
URL:https://christthevinelutheran.org/event/palm-sunday/
LOCATION:Christ the Vine Lutheran Church\, 18677 SE Hwy 212\, Damascus\, Oregon\, 97089\, United States
CATEGORIES:Worship Service
ATTACH;FMTTYPE=image/png:https://christthevinelutheran.org/wp-content/uploads/2025/04/a-single-palm-branch.png
END:VEVENT
BEGIN:VEVENT
DTSTART;TZID=America/Los_Angeles:20260325T180000
DTEND;TZID=America/Los_Angeles:20260325T200000
DTSTAMP:20260423T143620
CREATED:20260125T224100Z
LAST-MODIFIED:20260201T045451Z
UID:10780-1774461600-1774468800@christthevinelutheran.org
SUMMARY:Lent Evening Service & Potluck
DESCRIPTION:Join us for our mid-week Lenten services at 7 pm.\n\nPotluck dinner at 6:15 pm.
URL:https://christthevinelutheran.org/event/lent-evening-service-potluck-4/
LOCATION:Christ the Vine Lutheran Church\, 18677 SE Hwy 212\, Damascus\, Oregon\, 97089\, United States
CATEGORIES:Worship Service
ATTACH;FMTTYPE=image/png:https://christthevinelutheran.org/wp-content/uploads/2026/01/lcms-media-kit-holy-week-we-preach-christ-crucified-option-a-social-media-shareable-week-5-e1769380850585.png
END:VEVENT
BEGIN:VEVENT
DTSTART;TZID=America/Los_Angeles:20260318T180000
DTEND;TZID=America/Los_Angeles:20260318T200000
DTSTAMP:20260423T143620
CREATED:20260125T223933Z
LAST-MODIFIED:20260201T045509Z
UID:10777-1773856800-1773864000@christthevinelutheran.org
SUMMARY:Lent Evening Service & Potluck
DESCRIPTION:Join us for our mid-week Lenten services at 7 pm.\n\nPotluck dinner at 6:15 pm.
URL:https://christthevinelutheran.org/event/lent-evening-service-potluck-3/
LOCATION:Christ the Vine Lutheran Church\, 18677 SE Hwy 212\, Damascus\, Oregon\, 97089\, United States
CATEGORIES:Worship Service
ATTACH;FMTTYPE=image/png:https://christthevinelutheran.org/wp-content/uploads/2026/01/lcms-media-kit-holy-week-we-preach-christ-crucified-option-a-social-media-shareable-week-4-e1769380754286.png
END:VEVENT
BEGIN:VEVENT
DTSTART;TZID=America/Los_Angeles:20260311T180000
DTEND;TZID=America/Los_Angeles:20260311T200000
DTSTAMP:20260423T143620
CREATED:20260125T223747Z
LAST-MODIFIED:20260201T045524Z
UID:10774-1773252000-1773259200@christthevinelutheran.org
SUMMARY:Lent Evening Service & Potluck
DESCRIPTION:Join us for our mid-week Lenten services at 7 pm.\n\nPotluck dinner at 6:15 pm.
URL:https://christthevinelutheran.org/event/lent-evening-service-potluck-2/
LOCATION:Christ the Vine Lutheran Church\, 18677 SE Hwy 212\, Damascus\, Oregon\, 97089\, United States
CATEGORIES:Worship Service
ATTACH;FMTTYPE=image/png:https://christthevinelutheran.org/wp-content/uploads/2026/01/lcms-media-kit-holy-week-we-preach-christ-crucified-option-a-social-media-shareable-week-3-e1769380654201.png
END:VEVENT
BEGIN:VEVENT
DTSTART;TZID=America/Los_Angeles:20260304T180000
DTEND;TZID=America/Los_Angeles:20260304T200000
DTSTAMP:20260423T143620
CREATED:20260125T223631Z
LAST-MODIFIED:20260201T045536Z
UID:10771-1772647200-1772654400@christthevinelutheran.org
SUMMARY:Lenten Evening Service & Potluck
DESCRIPTION:Join us for our mid-week Lenten services at 7 pm.\n\nPotluck dinner at 6:15 pm.
URL:https://christthevinelutheran.org/event/lenten-evening-service-potluck/
LOCATION:Christ the Vine Lutheran Church\, 18677 SE Hwy 212\, Damascus\, Oregon\, 97089\, United States
CATEGORIES:Worship Service
ATTACH;FMTTYPE=image/png:https://christthevinelutheran.org/wp-content/uploads/2026/01/lcms-media-kit-holy-week-we-preach-christ-crucified-option-a-social-media-shareable-week-2-e1769380585535.png
END:VEVENT
BEGIN:VEVENT
DTSTART;TZID=America/Los_Angeles:20260225T180000
DTEND;TZID=America/Los_Angeles:20260225T200000
DTSTAMP:20260423T143620
CREATED:20260125T223348Z
LAST-MODIFIED:20260201T045231Z
UID:10767-1772042400-1772049600@christthevinelutheran.org
SUMMARY:Lent Evening Service & Potluck
DESCRIPTION:Join us for our mid-week Lenten services at 7 pm.\n\nPotluck dinner at 6:15 pm.
URL:https://christthevinelutheran.org/event/lent-evening-service-potluck/
LOCATION:Christ the Vine Lutheran Church\, 18677 SE Hwy 212\, Damascus\, Oregon\, 97089\, United States
CATEGORIES:Worship Service
ATTACH;FMTTYPE=image/png:https://christthevinelutheran.org/wp-content/uploads/2026/01/lcms-media-kit-holy-week-we-preach-christ-crucified-option-a-social-media-shareable-week-1-e1769380417369.png
END:VEVENT
BEGIN:VEVENT
DTSTART;TZID=America/Los_Angeles:20260218T181500
DTEND;TZID=America/Los_Angeles:20260218T200000
DTSTAMP:20260423T143620
CREATED:20260125T222407Z
LAST-MODIFIED:20260201T044930Z
UID:10763-1771438500-1771444800@christthevinelutheran.org
SUMMARY:Ash Wednesday Service
DESCRIPTION:Join us today\, Ash Wednesday\, at 7 p.m. for our traditional communion service featuring the Imposition of Ashes\, which reminds us of our mortality and God’s mercy.\n\nPotluck dinner starts at 6:15pm
URL:https://christthevinelutheran.org/event/ash-wednesday-service-2/
LOCATION:Christ the Vine Lutheran Church\, 18677 SE Hwy 212\, Damascus\, Oregon\, 97089\, United States
CATEGORIES:Worship Service
ATTACH;FMTTYPE=image/png:https://christthevinelutheran.org/wp-content/uploads/2026/01/lcms-media-kit-holy-week-we-preach-christ-crucified-option-a-social-media-shareable-ash-wednesday-e1769380486972.png
END:VEVENT
BEGIN:VEVENT
DTSTART;TZID=America/Los_Angeles:20260215T093000
DTEND;TZID=America/Los_Angeles:20260215T113000
DTSTAMP:20260423T143620
CREATED:20260125T222109Z
LAST-MODIFIED:20260125T222109Z
UID:10761-1771147800-1771155000@christthevinelutheran.org
SUMMARY:Transfiguration & Fastnacht Sunday
DESCRIPTION:Join us for Transfiguration Sunday as we celebrate the glory of Christ’s transformation! Our service begins at 9:30 AM\, followed by fellowship hour at 11:00 AM. \nThis year\, we’re continuing our traditional Fastnacht celebration with fresh donuts during fellowship hour—a delicious way to mark this special Sunday together.
URL:https://christthevinelutheran.org/event/transfiguration-fastnacht-sunday/
LOCATION:Christ the Vine Lutheran Church\, 18677 SE Hwy 212\, Damascus\, Oregon\, 97089\, United States
CATEGORIES:Special Church Event,Worship Service
END:VEVENT
BEGIN:VEVENT
DTSTART;TZID=America/Los_Angeles:20251225T100000
DTEND;TZID=America/Los_Angeles:20251225T110000
DTSTAMP:20260423T143620
CREATED:20251102T223807Z
LAST-MODIFIED:20251102T223815Z
UID:10359-1766656800-1766660400@christthevinelutheran.org
SUMMARY:Christmas Day Service
DESCRIPTION:
URL:https://christthevinelutheran.org/event/christmas-say-service/
LOCATION:Christ the Vine Lutheran Church\, 18677 SE Hwy 212\, Damascus\, Oregon\, 97089\, United States
CATEGORIES:Special Church Event,Worship Service
ATTACH;FMTTYPE=image/jpeg:https://christthevinelutheran.org/wp-content/uploads/2018/12/Christmas-2015.jpg
END:VEVENT
BEGIN:VEVENT
DTSTART;TZID=America/Los_Angeles:20251224T180000
DTEND;TZID=America/Los_Angeles:20251224T193000
DTSTAMP:20260423T143620
CREATED:20251102T223704Z
LAST-MODIFIED:20251102T223704Z
UID:10357-1766599200-1766604600@christthevinelutheran.org
SUMMARY:Christmas Eve Service
DESCRIPTION:
URL:https://christthevinelutheran.org/event/christmas-eve-service/
LOCATION:Christ the Vine Lutheran Church\, 18677 SE Hwy 212\, Damascus\, Oregon\, 97089\, United States
CATEGORIES:Special Church Event,Worship Service
ATTACH;FMTTYPE=image/jpeg:https://christthevinelutheran.org/wp-content/uploads/2018/12/Christmas-2015.jpg
END:VEVENT
BEGIN:VEVENT
DTSTART;TZID=America/Los_Angeles:20251217T181500
DTEND;TZID=America/Los_Angeles:20251217T200000
DTSTAMP:20260423T143620
CREATED:20251102T223149Z
LAST-MODIFIED:20251102T223149Z
UID:10349-1765995300-1766001600@christthevinelutheran.org
SUMMARY:Advent Mid-Week Service & Potluck
DESCRIPTION:6:15 PM – Potluck Dinner: Bring a dish to share as we gather in fellowship during this Advent season. \n7:00 PM – Worship Service We’ll come together for a time of worship\, reflection\, and prayer as we prepare our hearts for Christmas.
URL:https://christthevinelutheran.org/event/advent-mid-week-service-potluck-3/
LOCATION:Christ the Vine Lutheran Church\, 18677 SE Hwy 212\, Damascus\, Oregon\, 97089\, United States
CATEGORIES:Worship Service
ATTACH;FMTTYPE=image/png:https://christthevinelutheran.org/wp-content/uploads/2024/12/advent-sunday-3.png
END:VEVENT
BEGIN:VEVENT
DTSTART;TZID=America/Los_Angeles:20251210T181500
DTEND;TZID=America/Los_Angeles:20251210T200000
DTSTAMP:20260423T143620
CREATED:20251102T223044Z
LAST-MODIFIED:20251102T223044Z
UID:10347-1765390500-1765396800@christthevinelutheran.org
SUMMARY:Advent Mid-Week Service & Potluck
DESCRIPTION:6:15 PM – Potluck Dinner: Bring a dish to share as we gather in fellowship during this Advent season. \n7:00 PM – Worship Service We’ll come together for a time of worship\, reflection\, and prayer as we prepare our hearts for Christmas.
URL:https://christthevinelutheran.org/event/advent-mid-week-service-potluck-2/
LOCATION:Christ the Vine Lutheran Church\, 18677 SE Hwy 212\, Damascus\, Oregon\, 97089\, United States
CATEGORIES:Worship Service
ATTACH;FMTTYPE=image/png:https://christthevinelutheran.org/wp-content/uploads/2024/12/advent-sunday-2.png
END:VEVENT
BEGIN:VEVENT
DTSTART;TZID=America/Los_Angeles:20251203T181500
DTEND;TZID=America/Los_Angeles:20251203T200000
DTSTAMP:20260423T143620
CREATED:20251102T222927Z
LAST-MODIFIED:20251102T222927Z
UID:10345-1764785700-1764792000@christthevinelutheran.org
SUMMARY:Advent Mid-Week Service & Potluck
DESCRIPTION:6:15 PM – Potluck Dinner: Bring a dish to share as we gather in fellowship during this Advent season. \n7:00 PM – Worship Service We’ll come together for a time of worship\, reflection\, and prayer as we prepare our hearts for Christmas.
URL:https://christthevinelutheran.org/event/advent-mid-week-service-potluck/
LOCATION:Christ the Vine Lutheran Church\, 18677 SE Hwy 212\, Damascus\, Oregon\, 97089\, United States
CATEGORIES:Worship Service
ATTACH;FMTTYPE=image/png:https://christthevinelutheran.org/wp-content/uploads/2024/12/advent-sunday-1.png
END:VEVENT
END:VCALENDAR