BEGIN:VCALENDAR
VERSION:2.0
PRODID:-//Christ the Vine Lutheran - ECPv6.15.16.1//NONSGML v1.0//EN
CALSCALE:GREGORIAN
METHOD:PUBLISH
X-ORIGINAL-URL:https://christthevinelutheran.org
X-WR-CALDESC:Events for Christ the Vine Lutheran
REFRESH-INTERVAL;VALUE=DURATION:PT1H
X-Robots-Tag:noindex
X-PUBLISHED-TTL:PT1H
BEGIN:VTIMEZONE
TZID:America/Los_Angeles
BEGIN:DAYLIGHT
TZOFFSETFROM:-0800
TZOFFSETTO:-0700
TZNAME:PDT
DTSTART:20250309T100000
END:DAYLIGHT
BEGIN:STANDARD
TZOFFSETFROM:-0700
TZOFFSETTO:-0800
TZNAME:PST
DTSTART:20251102T090000
END:STANDARD
BEGIN:DAYLIGHT
TZOFFSETFROM:-0800
TZOFFSETTO:-0700
TZNAME:PDT
DTSTART:20260308T100000
END:DAYLIGHT
BEGIN:STANDARD
TZOFFSETFROM:-0700
TZOFFSETTO:-0800
TZNAME:PST
DTSTART:20261101T090000
END:STANDARD
BEGIN:DAYLIGHT
TZOFFSETFROM:-0800
TZOFFSETTO:-0700
TZNAME:PDT
DTSTART:20270314T100000
END:DAYLIGHT
BEGIN:STANDARD
TZOFFSETFROM:-0700
TZOFFSETTO:-0800
TZNAME:PST
DTSTART:20271107T090000
END:STANDARD
END:VTIMEZONE
BEGIN:VEVENT
DTSTART;TZID=America/Los_Angeles:20260403T190000
DTEND;TZID=America/Los_Angeles:20260403T200000
DTSTAMP:20260423T160256
CREATED:20260125T224517Z
LAST-MODIFIED:20260201T050043Z
UID:10788-1775242800-1775246400@christthevinelutheran.org
SUMMARY:Good Friday Service
DESCRIPTION:Join us for our Good Friday Tenebrae service\, a moving candlelit worship experience as we contemplate Christ’s passion and sacrifice. We invite you to be part of this solemn and sacred observance.
URL:https://christthevinelutheran.org/event/good-friday-service/
LOCATION:Christ the Vine Lutheran Church\, 18677 SE Hwy 212\, Damascus\, Oregon\, 97089\, United States
CATEGORIES:Worship Service
ATTACH;FMTTYPE=image/png:https://christthevinelutheran.org/wp-content/uploads/2026/01/lcms-media-kit-holy-week-we-preach-christ-crucified-option-a-social-media-shareable-good-friday-e1769381106972.png
END:VEVENT
END:VCALENDAR