BEGIN:VCALENDAR
VERSION:2.0
PRODID:-//Christ the Vine Lutheran - ECPv6.15.16.1//NONSGML v1.0//EN
CALSCALE:GREGORIAN
METHOD:PUBLISH
X-WR-CALNAME:Christ the Vine Lutheran
X-ORIGINAL-URL:https://christthevinelutheran.org
X-WR-CALDESC:Events for Christ the Vine Lutheran
REFRESH-INTERVAL;VALUE=DURATION:PT1H
X-Robots-Tag:noindex
X-PUBLISHED-TTL:PT1H
BEGIN:VTIMEZONE
TZID:America/Los_Angeles
BEGIN:DAYLIGHT
TZOFFSETFROM:-0800
TZOFFSETTO:-0700
TZNAME:PDT
DTSTART:20250309T100000
END:DAYLIGHT
BEGIN:STANDARD
TZOFFSETFROM:-0700
TZOFFSETTO:-0800
TZNAME:PST
DTSTART:20251102T090000
END:STANDARD
BEGIN:DAYLIGHT
TZOFFSETFROM:-0800
TZOFFSETTO:-0700
TZNAME:PDT
DTSTART:20260308T100000
END:DAYLIGHT
BEGIN:STANDARD
TZOFFSETFROM:-0700
TZOFFSETTO:-0800
TZNAME:PST
DTSTART:20261101T090000
END:STANDARD
BEGIN:DAYLIGHT
TZOFFSETFROM:-0800
TZOFFSETTO:-0700
TZNAME:PDT
DTSTART:20270314T100000
END:DAYLIGHT
BEGIN:STANDARD
TZOFFSETFROM:-0700
TZOFFSETTO:-0800
TZNAME:PST
DTSTART:20271107T090000
END:STANDARD
END:VTIMEZONE
BEGIN:VEVENT
DTSTART;TZID=America/Los_Angeles:20260414T100000
DTEND;TZID=America/Los_Angeles:20260414T120000
DTSTAMP:20260423T160339
CREATED:20260404T173156Z
LAST-MODIFIED:20260404T173156Z
UID:11051-1776160800-1776168000@christthevinelutheran.org
SUMMARY:LWM Meeting
DESCRIPTION:April 14 at 10 AM at the church. PS. Jesse Brubaker will be the guest for the almost annual “Stump the Pastor”. This is a great opportunity to ask your burning questions about Lutheranism\, Bible queries\, what the church in the future will look like\, how is CTV planning on expanding their footprint as they grow in faith\, etc. Everyone will be able to ask at least one question! The group will also have their monthly business meeting. Nita Hoops will lead the devotion.
URL:https://christthevinelutheran.org/event/lwm-meeting-2/
LOCATION:Christ the Vine Lutheran Church\, 18677 SE Hwy 212\, Damascus\, Oregon\, 97089\, United States
CATEGORIES:Mission & Outreach,Women's Ministry
END:VEVENT
END:VCALENDAR