BEGIN:VCALENDAR
VERSION:2.0
PRODID:-//Christ the Vine Lutheran - ECPv6.15.16.1//NONSGML v1.0//EN
CALSCALE:GREGORIAN
METHOD:PUBLISH
X-ORIGINAL-URL:https://christthevinelutheran.org
X-WR-CALDESC:Events for Christ the Vine Lutheran
REFRESH-INTERVAL;VALUE=DURATION:PT1H
X-Robots-Tag:noindex
X-PUBLISHED-TTL:PT1H
BEGIN:VTIMEZONE
TZID:America/Los_Angeles
BEGIN:DAYLIGHT
TZOFFSETFROM:-0800
TZOFFSETTO:-0700
TZNAME:PDT
DTSTART:20240310T100000
END:DAYLIGHT
BEGIN:STANDARD
TZOFFSETFROM:-0700
TZOFFSETTO:-0800
TZNAME:PST
DTSTART:20241103T090000
END:STANDARD
BEGIN:DAYLIGHT
TZOFFSETFROM:-0800
TZOFFSETTO:-0700
TZNAME:PDT
DTSTART:20250309T100000
END:DAYLIGHT
BEGIN:STANDARD
TZOFFSETFROM:-0700
TZOFFSETTO:-0800
TZNAME:PST
DTSTART:20251102T090000
END:STANDARD
BEGIN:DAYLIGHT
TZOFFSETFROM:-0800
TZOFFSETTO:-0700
TZNAME:PDT
DTSTART:20260308T100000
END:DAYLIGHT
BEGIN:STANDARD
TZOFFSETFROM:-0700
TZOFFSETTO:-0800
TZNAME:PST
DTSTART:20261101T090000
END:STANDARD
BEGIN:DAYLIGHT
TZOFFSETFROM:-0800
TZOFFSETTO:-0700
TZNAME:PDT
DTSTART:20270314T100000
END:DAYLIGHT
BEGIN:STANDARD
TZOFFSETFROM:-0700
TZOFFSETTO:-0800
TZNAME:PST
DTSTART:20271107T090000
END:STANDARD
END:VTIMEZONE
BEGIN:VEVENT
DTSTART;TZID=America/Los_Angeles:20260322T113000
DTEND;TZID=America/Los_Angeles:20260322T123000
DTSTAMP:20260423T143745
CREATED:20260125T220743Z
LAST-MODIFIED:20260125T220743Z
UID:10745-1774179000-1774182600@christthevinelutheran.org
SUMMARY:New Members Class
DESCRIPTION:You’re invited to our New Member Class\, led by Pastor Jesse Brubaker! This class runs from February 15 through March 22 and is a wonderful opportunity to learn more about our faith\, our church\, and the foundations of our beliefs. \nAll are welcome to join—whether you’re a new member or a longtime part of our congregation\, this class offers valuable insights for everyone. \nWe look forward to seeing you there!
URL:https://christthevinelutheran.org/event/new-members-class-6/
LOCATION:Christ the Vine Lutheran Church\, 18677 SE Hwy 212\, Damascus\, Oregon\, 97089\, United States
CATEGORIES:Bible Study,Special Church Event
END:VEVENT
BEGIN:VEVENT
DTSTART;TZID=America/Los_Angeles:20260315T113000
DTEND;TZID=America/Los_Angeles:20260315T123000
DTSTAMP:20260423T143745
CREATED:20260125T220707Z
LAST-MODIFIED:20260125T220707Z
UID:10743-1773574200-1773577800@christthevinelutheran.org
SUMMARY:New Members Class
DESCRIPTION:You’re invited to our New Member Class\, led by Pastor Jesse Brubaker! This class runs from February 15 through March 22 and is a wonderful opportunity to learn more about our faith\, our church\, and the foundations of our beliefs. \nAll are welcome to join—whether you’re a new member or a longtime part of our congregation\, this class offers valuable insights for everyone. \nWe look forward to seeing you there!
URL:https://christthevinelutheran.org/event/new-members-class-5/
LOCATION:Christ the Vine Lutheran Church\, 18677 SE Hwy 212\, Damascus\, Oregon\, 97089\, United States
CATEGORIES:Bible Study,Special Church Event
END:VEVENT
BEGIN:VEVENT
DTSTART;TZID=America/Los_Angeles:20260308T113000
DTEND;TZID=America/Los_Angeles:20260308T123000
DTSTAMP:20260423T143745
CREATED:20260125T220552Z
LAST-MODIFIED:20260125T220552Z
UID:10741-1772969400-1772973000@christthevinelutheran.org
SUMMARY:New Members Class
DESCRIPTION:You’re invited to our New Member Class\, led by Pastor Jesse Brubaker! This class runs from February 15 through March 22 and is a wonderful opportunity to learn more about our faith\, our church\, and the foundations of our beliefs. \nAll are welcome to join—whether you’re a new member or a longtime part of our congregation\, this class offers valuable insights for everyone. \nWe look forward to seeing you there!
URL:https://christthevinelutheran.org/event/new-members-class-4/
LOCATION:Christ the Vine Lutheran Church\, 18677 SE Hwy 212\, Damascus\, Oregon\, 97089\, United States
CATEGORIES:Bible Study,Special Church Event
END:VEVENT
BEGIN:VEVENT
DTSTART;TZID=America/Los_Angeles:20260301T140000
DTEND;TZID=America/Los_Angeles:20260301T160000
DTSTAMP:20260423T143745
CREATED:20251229T215315Z
LAST-MODIFIED:20260201T045432Z
UID:10586-1772373600-1772380800@christthevinelutheran.org
SUMMARY:Reflective Lenten Tea Service
DESCRIPTION:You are invited to be a part of something truly special! Lenten Reflective Tea Service is an opportunity for everyone to meditate on the passion of Christ and his sacrifice for sin.\n\nThis year’s program will focus on Christ’s last words.\n\nThis Lenten Tea Service welcomes everyone. The service content is most meaningful for teens and adults; younger children may find the contemplative focus and mature themes less engaging.
URL:https://christthevinelutheran.org/event/reflective-lenten-tea-service/
LOCATION:Christ the Vine Lutheran Church\, 18677 SE Hwy 212\, Damascus\, Oregon\, 97089\, United States
CATEGORIES:Special Church Event
END:VEVENT
BEGIN:VEVENT
DTSTART;TZID=America/Los_Angeles:20260301T113000
DTEND;TZID=America/Los_Angeles:20260301T123000
DTSTAMP:20260423T143745
CREATED:20260125T220502Z
LAST-MODIFIED:20260125T220502Z
UID:10739-1772364600-1772368200@christthevinelutheran.org
SUMMARY:New Members Class
DESCRIPTION:You’re invited to our New Member Class\, led by Pastor Jesse Brubaker! This class runs from February 15 through March 22 and is a wonderful opportunity to learn more about our faith\, our church\, and the foundations of our beliefs. \nAll are welcome to join—whether you’re a new member or a longtime part of our congregation\, this class offers valuable insights for everyone. \nWe look forward to seeing you there!
URL:https://christthevinelutheran.org/event/new-members-class-3/
LOCATION:Christ the Vine Lutheran Church\, 18677 SE Hwy 212\, Damascus\, Oregon\, 97089\, United States
CATEGORIES:Bible Study,Special Church Event
END:VEVENT
BEGIN:VEVENT
DTSTART;TZID=America/Los_Angeles:20260222T113000
DTEND;TZID=America/Los_Angeles:20260222T123000
DTSTAMP:20260423T143745
CREATED:20260125T220348Z
LAST-MODIFIED:20260125T220348Z
UID:10737-1771759800-1771763400@christthevinelutheran.org
SUMMARY:New Members Class
DESCRIPTION:You’re invited to our New Member Class\, led by Pastor Jesse Brubaker! This class runs from February 15 through March 22 and is a wonderful opportunity to learn more about our faith\, our church\, and the foundations of our beliefs. \nAll are welcome to join—whether you’re a new member or a longtime part of our congregation\, this class offers valuable insights for everyone. \nWe look forward to seeing you there!
URL:https://christthevinelutheran.org/event/new-members-class-2/
LOCATION:Christ the Vine Lutheran Church\, 18677 SE Hwy 212\, Damascus\, Oregon\, 97089\, United States
CATEGORIES:Bible Study,Special Church Event
END:VEVENT
BEGIN:VEVENT
DTSTART;TZID=America/Los_Angeles:20260215T113000
DTEND;TZID=America/Los_Angeles:20260215T123000
DTSTAMP:20260423T143745
CREATED:20260125T220309Z
LAST-MODIFIED:20260125T220425Z
UID:10734-1771155000-1771158600@christthevinelutheran.org
SUMMARY:New Members Class
DESCRIPTION:You’re invited to our New Member Class\, led by Pastor Jesse Brubaker! This class runs from February 15 through March 22 and is a wonderful opportunity to learn more about our faith\, our church\, and the foundations of our beliefs. \nAll are welcome to join—whether you’re a new member or a longtime part of our congregation\, this class offers valuable insights for everyone. \nWe look forward to seeing you there!
URL:https://christthevinelutheran.org/event/new-members-class/
LOCATION:Christ the Vine Lutheran Church\, 18677 SE Hwy 212\, Damascus\, Oregon\, 97089\, United States
CATEGORIES:Bible Study,Special Church Event
END:VEVENT
BEGIN:VEVENT
DTSTART;TZID=America/Los_Angeles:20260215T093000
DTEND;TZID=America/Los_Angeles:20260215T113000
DTSTAMP:20260423T143745
CREATED:20260125T222109Z
LAST-MODIFIED:20260125T222109Z
UID:10761-1771147800-1771155000@christthevinelutheran.org
SUMMARY:Transfiguration & Fastnacht Sunday
DESCRIPTION:Join us for Transfiguration Sunday as we celebrate the glory of Christ’s transformation! Our service begins at 9:30 AM\, followed by fellowship hour at 11:00 AM. \nThis year\, we’re continuing our traditional Fastnacht celebration with fresh donuts during fellowship hour—a delicious way to mark this special Sunday together.
URL:https://christthevinelutheran.org/event/transfiguration-fastnacht-sunday/
LOCATION:Christ the Vine Lutheran Church\, 18677 SE Hwy 212\, Damascus\, Oregon\, 97089\, United States
CATEGORIES:Special Church Event,Worship Service
END:VEVENT
BEGIN:VEVENT
DTSTART;TZID=America/Los_Angeles:20260103T090000
DTEND;TZID=America/Los_Angeles:20260103T120000
DTSTAMP:20260423T143745
CREATED:20251025T201543Z
LAST-MODIFIED:20251229T215935Z
UID:10270-1767430800-1767441600@christthevinelutheran.org
SUMMARY:Church Work Party & Dehanging of the Greens
DESCRIPTION:Assist in maintaining the church’s appearance through basic upkeep tasks\, and prepare for the upcoming church season by removing and storing allations. Addition Christmas decorally\, set up Epiphany chancel art\, door decorations\, and the hymn board.
URL:https://christthevinelutheran.org/event/dehanging-of-the-greens/
LOCATION:Christ the Vine Lutheran Church\, 18677 SE Hwy 212\, Damascus\, Oregon\, 97089\, United States
CATEGORIES:Special Church Event
END:VEVENT
BEGIN:VEVENT
DTSTART;TZID=America/Los_Angeles:20251225T100000
DTEND;TZID=America/Los_Angeles:20251225T110000
DTSTAMP:20260423T143745
CREATED:20251102T223807Z
LAST-MODIFIED:20251102T223815Z
UID:10359-1766656800-1766660400@christthevinelutheran.org
SUMMARY:Christmas Day Service
DESCRIPTION:
URL:https://christthevinelutheran.org/event/christmas-say-service/
LOCATION:Christ the Vine Lutheran Church\, 18677 SE Hwy 212\, Damascus\, Oregon\, 97089\, United States
CATEGORIES:Special Church Event,Worship Service
ATTACH;FMTTYPE=image/jpeg:https://christthevinelutheran.org/wp-content/uploads/2018/12/Christmas-2015.jpg
END:VEVENT
BEGIN:VEVENT
DTSTART;TZID=America/Los_Angeles:20251224T180000
DTEND;TZID=America/Los_Angeles:20251224T193000
DTSTAMP:20260423T143745
CREATED:20251102T223704Z
LAST-MODIFIED:20251102T223704Z
UID:10357-1766599200-1766604600@christthevinelutheran.org
SUMMARY:Christmas Eve Service
DESCRIPTION:
URL:https://christthevinelutheran.org/event/christmas-eve-service/
LOCATION:Christ the Vine Lutheran Church\, 18677 SE Hwy 212\, Damascus\, Oregon\, 97089\, United States
CATEGORIES:Special Church Event,Worship Service
ATTACH;FMTTYPE=image/jpeg:https://christthevinelutheran.org/wp-content/uploads/2018/12/Christmas-2015.jpg
END:VEVENT
BEGIN:VEVENT
DTSTART;TZID=America/Los_Angeles:20251221T113000
DTEND;TZID=America/Los_Angeles:20251221T130000
DTSTAMP:20260423T143745
CREATED:20251102T222342Z
LAST-MODIFIED:20251102T222419Z
UID:10339-1766316600-1766322000@christthevinelutheran.org
SUMMARY:Annual Voters Meeting
DESCRIPTION:Time: Following the service\n\nWho May Attend: All confirmed and voting members of the church\n\nMain Agenda Item: Approval of the 2026 Budget\n\nThe complete agenda will be posted two weeks before the meeting (by December 7\, 2025).\n\nAll eligible members are encouraged to attend this important meeting.
URL:https://christthevinelutheran.org/event/annual-voters-meeting/
LOCATION:Christ the Vine Lutheran Church\, 18677 SE Hwy 212\, Damascus\, Oregon\, 97089\, United States
CATEGORIES:Meetings,Special Church Event
END:VEVENT
BEGIN:VEVENT
DTSTART;TZID=America/Los_Angeles:20251214T110000
DTEND;TZID=America/Los_Angeles:20251214T120000
DTSTAMP:20260423T143745
CREATED:20251026T221217Z
LAST-MODIFIED:20251026T221217Z
UID:10300-1765710000-1765713600@christthevinelutheran.org
SUMMARY:LWM Annual Cookie Walk
DESCRIPTION:
URL:https://christthevinelutheran.org/event/lwm-annual-cookie-walk/
LOCATION:Christ the Vine Lutheran Church\, 18677 SE Hwy 212\, Damascus\, Oregon\, 97089\, United States
CATEGORIES:Family Activities,Special Church Event,Women's Ministry
END:VEVENT
BEGIN:VEVENT
DTSTART;TZID=America/Los_Angeles:20251206T150000
DTEND;TZID=America/Los_Angeles:20251206T170000
DTSTAMP:20260423T143745
CREATED:20250926T184100Z
LAST-MODIFIED:20251026T220922Z
UID:10126-1765033200-1765040400@christthevinelutheran.org
SUMMARY:The Wonder of Christmas Tour: Liberty Men's Quartet
DESCRIPTION:Liberty Quartet was founded in October of 1995 out of a local church in Boise\, Idaho. Royce Mitchell was the choir director\, and the other three members were in the choir. In 1997\, Liberty began traveling full-time. Liberty is celebrating God’s faithfulness and over two decades of ministry.\n\nLiberty is a Gospel group based in the West with a full-time concert schedule. The members of Liberty are:\n\n 	Royce Mitchell\, bass\n 	Paul W. Ellis\, lead\n 	Will Arasmith\, baritone\n 	Doran Ritchey\, piano/baritone; and\n 	Peyton Olive\, tenor
URL:https://christthevinelutheran.org/event/mens-quartet/
LOCATION:Christ the Vine Lutheran Church\, 18677 SE Hwy 212\, Damascus\, Oregon\, 97089\, United States
CATEGORIES:Family Activities,Special Church Event
END:VEVENT
BEGIN:VEVENT
DTSTART;TZID=America/Los_Angeles:20251129T090000
DTEND;TZID=America/Los_Angeles:20251129T150000
DTSTAMP:20260423T143745
CREATED:20250926T183950Z
LAST-MODIFIED:20251102T221741Z
UID:10124-1764406800-1764428400@christthevinelutheran.org
SUMMARY:The Hanging of the Greens
DESCRIPTION:Hot chocolate for everyone.  Christmas music during setup.
URL:https://christthevinelutheran.org/event/hanging-of-the-greens/
LOCATION:Christ the Vine Lutheran Church\, 18677 SE Hwy 212\, Damascus\, Oregon\, 97089\, United States
CATEGORIES:Special Church Event
ATTACH;FMTTYPE=image/png:https://christthevinelutheran.org/wp-content/uploads/2022/11/christmas-tree.png
END:VEVENT
BEGIN:VEVENT
DTSTART;TZID=America/Los_Angeles:20251025T180000
DTEND;TZID=America/Los_Angeles:20251025T200000
DTSTAMP:20260423T143745
CREATED:20250926T175527Z
LAST-MODIFIED:20251003T220951Z
UID:10105-1761415200-1761422400@christthevinelutheran.org
SUMMARY:German Dinner
DESCRIPTION:Join us for a festive evening celebrating the 508th anniversary of Martin Luther nailing his 95 Theses to the Castle Church door in Wittenberg on October 31\, 1517! In honor of this pivotal moment that sparked the Protestant Reformation\, we’ll gather for an evening of authentic German cuisine and fellowship.
URL:https://christthevinelutheran.org/event/reformation-dinner/
LOCATION:Christ the Vine Lutheran Church\, 18677 SE Hwy 212\, Damascus\, Oregon\, 97089\, United States
CATEGORIES:Special Church Event
END:VEVENT
BEGIN:VEVENT
DTSTART;TZID=America/Los_Angeles:20251011T090000
DTEND;TZID=America/Los_Angeles:20251011T150000
DTSTAMP:20260423T143745
CREATED:20250926T192811Z
LAST-MODIFIED:20250926T192811Z
UID:10142-1760173200-1760194800@christthevinelutheran.org
SUMMARY:Grape Harvest & Wine Bottling- Join Us in the Vineyard!
DESCRIPTION:Our grapes are ready for harvest! If you’re curious about how we gather the fruit and craft our wine\, this is a wonderful opportunity to join us and experience the process firsthand. Come be part of this hands-on tradition as we work together to bring in the harvest.\nWhether you’re experienced with grape harvesting or completely new to the process\, all are welcome! Bring gloves\, clippers\, and a bucket. We’ll provide guidance and plenty of fellowship as we work side by side. This is a great chance to learn about winemaking while enjoying community with fellow church members. \nPlease note: Date may shift depending on how the fruit has ripened – we’ll keep you updated as harvest time approaches.
URL:https://christthevinelutheran.org/event/grape-harvest-wine-bottling-join-us-in-the-vineyard/
LOCATION:Christ the Vine Lutheran Church\, 18677 SE Hwy 212\, Damascus\, Oregon\, 97089\, United States
CATEGORIES:Family Activities,Special Church Event
END:VEVENT
BEGIN:VEVENT
DTSTART;TZID=America/Los_Angeles:20251005T110000
DTEND;TZID=America/Los_Angeles:20251005T120000
DTSTAMP:20260423T143745
CREATED:20250926T192204Z
LAST-MODIFIED:20250926T192204Z
UID:10139-1759662000-1759665600@christthevinelutheran.org
SUMMARY:Mission Sunday: Lahash
DESCRIPTION:Join us during fellowship hour as we learn about Lahash International\, a child sponsorship organization that partners with local ministries across East Africa to bring good news and holistic care to children in need. Katie Nelson will be sharing about Lahash’s mission\, their current programs\, and how our church can get involved in supporting vulnerable children.
URL:https://christthevinelutheran.org/event/mission-sunday-lahash/
LOCATION:Christ the Vine Lutheran Church\, 18677 SE Hwy 212\, Damascus\, Oregon\, 97089\, United States
CATEGORIES:Special Church Event
END:VEVENT
BEGIN:VEVENT
DTSTART;VALUE=DATE:20251005
DTEND;VALUE=DATE:20251006
DTSTAMP:20260423T143745
CREATED:20250926T192934Z
LAST-MODIFIED:20250926T192934Z
UID:10144-1759622400-1759708799@christthevinelutheran.org
SUMMARY:LWML Sunday
DESCRIPTION:
URL:https://christthevinelutheran.org/event/lwml-sunday/
LOCATION:Christ the Vine Lutheran Church\, 18677 SE Hwy 212\, Damascus\, Oregon\, 97089\, United States
CATEGORIES:Special Church Event
END:VEVENT
BEGIN:VEVENT
DTSTART;TZID=America/Los_Angeles:20251004T090000
DTEND;TZID=America/Los_Angeles:20251004T120000
DTSTAMP:20260423T143745
CREATED:20250926T191615Z
LAST-MODIFIED:20250926T191615Z
UID:10136-1759568400-1759579200@christthevinelutheran.org
SUMMARY:Church Work Party
DESCRIPTION:Many hands make light work! Join us for our monthly work party as we come together to care for our church home. We have projects both big and small\, inside and outside\, that help keep our facilities clean\, safe\, and welcoming for worship and ministry.
URL:https://christthevinelutheran.org/event/church-work-party/
LOCATION:Christ the Vine Lutheran Church\, 18677 SE Hwy 212\, Damascus\, Oregon\, 97089\, United States
CATEGORIES:Special Church Event
END:VEVENT
BEGIN:VEVENT
DTSTART;TZID=America/Los_Angeles:20250907T093000
DTEND;TZID=America/Los_Angeles:20250907T230000
DTSTAMP:20260423T143745
CREATED:20250926T174434Z
LAST-MODIFIED:20250926T174434Z
UID:10096-1757237400-1757286000@christthevinelutheran.org
SUMMARY:Rally Sunday
DESCRIPTION:Rally Sunday marks an exciting kickoff to our fall programming season! This special day brings our community together as we “rally” around our shared mission and prepare for the year ahead.
URL:https://christthevinelutheran.org/event/rally-sunday/
LOCATION:Christ the Vine Lutheran Church\, 18677 SE Hwy 212\, Damascus\, Oregon\, 97089\, United States
CATEGORIES:Special Church Event
END:VEVENT
END:VCALENDAR