BEGIN:VCALENDAR
VERSION:2.0
PRODID:-//Christ the Vine Lutheran - ECPv6.15.16.1//NONSGML v1.0//EN
CALSCALE:GREGORIAN
METHOD:PUBLISH
X-ORIGINAL-URL:https://christthevinelutheran.org
X-WR-CALDESC:Events for Christ the Vine Lutheran
REFRESH-INTERVAL;VALUE=DURATION:PT1H
X-Robots-Tag:noindex
X-PUBLISHED-TTL:PT1H
BEGIN:VTIMEZONE
TZID:America/Los_Angeles
BEGIN:DAYLIGHT
TZOFFSETFROM:-0800
TZOFFSETTO:-0700
TZNAME:PDT
DTSTART:20240310T100000
END:DAYLIGHT
BEGIN:STANDARD
TZOFFSETFROM:-0700
TZOFFSETTO:-0800
TZNAME:PST
DTSTART:20241103T090000
END:STANDARD
BEGIN:DAYLIGHT
TZOFFSETFROM:-0800
TZOFFSETTO:-0700
TZNAME:PDT
DTSTART:20250309T100000
END:DAYLIGHT
BEGIN:STANDARD
TZOFFSETFROM:-0700
TZOFFSETTO:-0800
TZNAME:PST
DTSTART:20251102T090000
END:STANDARD
BEGIN:DAYLIGHT
TZOFFSETFROM:-0800
TZOFFSETTO:-0700
TZNAME:PDT
DTSTART:20260308T100000
END:DAYLIGHT
BEGIN:STANDARD
TZOFFSETFROM:-0700
TZOFFSETTO:-0800
TZNAME:PST
DTSTART:20261101T090000
END:STANDARD
BEGIN:DAYLIGHT
TZOFFSETFROM:-0800
TZOFFSETTO:-0700
TZNAME:PDT
DTSTART:20270314T100000
END:DAYLIGHT
BEGIN:STANDARD
TZOFFSETFROM:-0700
TZOFFSETTO:-0800
TZNAME:PST
DTSTART:20271107T090000
END:STANDARD
END:VTIMEZONE
BEGIN:VEVENT
DTSTART;TZID=America/Los_Angeles:20260412T113000
DTEND;TZID=America/Los_Angeles:20260412T123000
DTSTAMP:20260423T143055
CREATED:20260404T173034Z
LAST-MODIFIED:20260404T173034Z
UID:11049-1775993400-1775997000@christthevinelutheran.org
SUMMARY:Cancer Support Group
DESCRIPTION:CANCER SUPPORT GROUP – Next meeting will be April 12th at 11:30 am in the quilters room. Everyone is welcome…questions contact Nita Hoops.
URL:https://christthevinelutheran.org/event/cancer-support-group-2/
LOCATION:Christ the Vine Lutheran Church\, 18677 SE Hwy 212\, Damascus\, Oregon\, 97089\, United States
CATEGORIES:Meetings
END:VEVENT
BEGIN:VEVENT
DTSTART;TZID=America/Los_Angeles:20260324T190000
DTEND;TZID=America/Los_Angeles:20260324T203000
DTSTAMP:20260423T143055
CREATED:20260125T221043Z
LAST-MODIFIED:20260125T221043Z
UID:10751-1774378800-1774384200@christthevinelutheran.org
SUMMARY:PPC Meeting
DESCRIPTION:
URL:https://christthevinelutheran.org/event/ppc-meeting-5/
LOCATION:Christ the Vine Lutheran Church\, 18677 SE Hwy 212\, Damascus\, Oregon\, 97089\, United States
CATEGORIES:Meetings
END:VEVENT
BEGIN:VEVENT
DTSTART;TZID=America/Los_Angeles:20260224T190000
DTEND;TZID=America/Los_Angeles:20260224T203000
DTSTAMP:20260423T143055
CREATED:20260125T221010Z
LAST-MODIFIED:20260125T221010Z
UID:10749-1771959600-1771965000@christthevinelutheran.org
SUMMARY:PPC Meeting
DESCRIPTION:
URL:https://christthevinelutheran.org/event/ppc-meeting-4/
LOCATION:Christ the Vine Lutheran Church\, 18677 SE Hwy 212\, Damascus\, Oregon\, 97089\, United States
CATEGORIES:Meetings
END:VEVENT
BEGIN:VEVENT
DTSTART;TZID=America/Los_Angeles:20260222T113000
DTEND;TZID=America/Los_Angeles:20260222T130000
DTSTAMP:20260423T143055
CREATED:20260125T215854Z
LAST-MODIFIED:20260125T215854Z
UID:10732-1771759800-1771765200@christthevinelutheran.org
SUMMARY:Cancer Support Group
DESCRIPTION:
URL:https://christthevinelutheran.org/event/cancer-support-group/
LOCATION:Christ the Vine Lutheran Church\, 18677 SE Hwy 212\, Damascus\, Oregon\, 97089\, United States
CATEGORIES:Meetings
END:VEVENT
BEGIN:VEVENT
DTSTART;TZID=America/Los_Angeles:20260210T100000
DTEND;TZID=America/Los_Angeles:20260210T150000
DTSTAMP:20260423T143055
CREATED:20260125T215736Z
LAST-MODIFIED:20260125T215736Z
UID:10730-1770717600-1770735600@christthevinelutheran.org
SUMMARY:LWM Meeting
DESCRIPTION:Following the business meeting\, the group will conduct home visits to members who are ill or unable to attend worship.
URL:https://christthevinelutheran.org/event/lwm-meeting/
LOCATION:Christ the Vine Lutheran Church\, 18677 SE Hwy 212\, Damascus\, Oregon\, 97089\, United States
CATEGORIES:Meetings,Women's Ministry
END:VEVENT
BEGIN:VEVENT
DTSTART;TZID=America/Los_Angeles:20260127T190000
DTEND;TZID=America/Los_Angeles:20260127T203000
DTSTAMP:20260423T143055
CREATED:20260125T220941Z
LAST-MODIFIED:20260125T220941Z
UID:10747-1769540400-1769545800@christthevinelutheran.org
SUMMARY:PPC Meeting
DESCRIPTION:
URL:https://christthevinelutheran.org/event/ppc-meeting-3/
LOCATION:Christ the Vine Lutheran Church\, 18677 SE Hwy 212\, Damascus\, Oregon\, 97089\, United States
CATEGORIES:Meetings
END:VEVENT
BEGIN:VEVENT
DTSTART;TZID=America/Los_Angeles:20260113T100000
DTEND;TZID=America/Los_Angeles:20260113T120000
DTSTAMP:20260423T143055
CREATED:20251229T211207Z
LAST-MODIFIED:20251229T211207Z
UID:10569-1768298400-1768305600@christthevinelutheran.org
SUMMARY:CTV Lutheran Women in Mission Meeting
DESCRIPTION:They will be choosing the missions to support in 2026.
URL:https://christthevinelutheran.org/event/ctv-lutheran-women-in-mission-meeting/
LOCATION:Christ the Vine Lutheran Church\, 18677 SE Hwy 212\, Damascus\, Oregon\, 97089\, United States
CATEGORIES:Meetings,Women's Ministry
END:VEVENT
BEGIN:VEVENT
DTSTART;TZID=America/Los_Angeles:20251221T113000
DTEND;TZID=America/Los_Angeles:20251221T130000
DTSTAMP:20260423T143055
CREATED:20251102T222342Z
LAST-MODIFIED:20251102T222419Z
UID:10339-1766316600-1766322000@christthevinelutheran.org
SUMMARY:Annual Voters Meeting
DESCRIPTION:Time: Following the service\n\nWho May Attend: All confirmed and voting members of the church\n\nMain Agenda Item: Approval of the 2026 Budget\n\nThe complete agenda will be posted two weeks before the meeting (by December 7\, 2025).\n\nAll eligible members are encouraged to attend this important meeting.
URL:https://christthevinelutheran.org/event/annual-voters-meeting/
LOCATION:Christ the Vine Lutheran Church\, 18677 SE Hwy 212\, Damascus\, Oregon\, 97089\, United States
CATEGORIES:Meetings,Special Church Event
END:VEVENT
BEGIN:VEVENT
DTSTART;TZID=America/Los_Angeles:20251125T100000
DTEND;TZID=America/Los_Angeles:20251125T120000
DTSTAMP:20260423T143055
CREATED:20251026T215940Z
LAST-MODIFIED:20251026T215940Z
UID:10294-1764064800-1764072000@christthevinelutheran.org
SUMMARY:Christ the Vine Quilters
DESCRIPTION:
URL:https://christthevinelutheran.org/event/christ-the-vine-quilters-4/
LOCATION:Christ the Vine Lutheran Church\, 18677 SE Hwy 212\, Damascus\, Oregon\, 97089\, United States
CATEGORIES:Family Activities,Meetings
END:VEVENT
BEGIN:VEVENT
DTSTART;TZID=America/Los_Angeles:20251118T080000
DTEND;TZID=America/Los_Angeles:20251118T170000
DTSTAMP:20260423T143055
CREATED:20251026T215904Z
LAST-MODIFIED:20251026T215904Z
UID:10292-1763452800-1763485200@christthevinelutheran.org
SUMMARY:Christ the Vine Quilters
DESCRIPTION:
URL:https://christthevinelutheran.org/event/christ-the-vine-quilters-3/
LOCATION:Christ the Vine Lutheran Church\, 18677 SE Hwy 212\, Damascus\, Oregon\, 97089\, United States
CATEGORIES:Family Activities,Meetings
END:VEVENT
BEGIN:VEVENT
DTSTART;TZID=America/Los_Angeles:20251104T100000
DTEND;TZID=America/Los_Angeles:20251104T120000
DTSTAMP:20260423T143055
CREATED:20251026T215826Z
LAST-MODIFIED:20251026T215826Z
UID:10290-1762250400-1762257600@christthevinelutheran.org
SUMMARY:Christ the Vine Quilters
DESCRIPTION:
URL:https://christthevinelutheran.org/event/christ-the-vine-quilters-2/
LOCATION:Christ the Vine Lutheran Church\, 18677 SE Hwy 212\, Damascus\, Oregon\, 97089\, United States
CATEGORIES:Family Activities,Meetings
END:VEVENT
BEGIN:VEVENT
DTSTART;TZID=America/Los_Angeles:20251101T090000
DTEND;TZID=America/Los_Angeles:20251101T130000
DTSTAMP:20260423T143055
CREATED:20250926T180407Z
LAST-MODIFIED:20251026T220349Z
UID:10110-1761987600-1762002000@christthevinelutheran.org
SUMMARY:LWML: Mt. Hood Zone Rally
DESCRIPTION:Join us for the Mt. Hood Zone Rally at CTV! Enjoy fellowship over breakfast and lunch while Pastor Jesse Brubaker leads a Bible study and Pastor Nathan Schmidt shares about his mission work with LAMP. All are welcome to attend this inspiring day of faith and mission awareness.
URL:https://christthevinelutheran.org/event/lwml-mt-hood-zone-rally/
LOCATION:Christ the Vine Lutheran Church\, 18677 SE Hwy 212\, Damascus\, Oregon\, 97089\, United States
CATEGORIES:Meetings,Women's Ministry
END:VEVENT
BEGIN:VEVENT
DTSTART;TZID=America/Los_Angeles:20251028T100000
DTEND;TZID=America/Los_Angeles:20251028T120000
DTSTAMP:20260423T143055
CREATED:20251026T215605Z
LAST-MODIFIED:20251026T215605Z
UID:10288-1761645600-1761652800@christthevinelutheran.org
SUMMARY:Christ the Vine Quilters
DESCRIPTION:
URL:https://christthevinelutheran.org/event/christ-the-vine-quilters/
LOCATION:Christ the Vine Lutheran Church\, 18677 SE Hwy 212\, Damascus\, Oregon\, 97089\, United States
CATEGORIES:Family Activities,Meetings
END:VEVENT
BEGIN:VEVENT
DTSTART;VALUE=DATE:20251028
DTEND;VALUE=DATE:20251029
DTSTAMP:20260423T143055
CREATED:20250926T193145Z
LAST-MODIFIED:20251018T220715Z
UID:10148-1761609600-1761695999@christthevinelutheran.org
SUMMARY:PPC Meeting
DESCRIPTION:
URL:https://christthevinelutheran.org/event/ppc-meeting-2/
LOCATION:Oregon
CATEGORIES:Meetings
END:VEVENT
BEGIN:VEVENT
DTSTART;VALUE=DATE:20250930
DTEND;VALUE=DATE:20251001
DTSTAMP:20260423T143055
CREATED:20250926T193039Z
LAST-MODIFIED:20251018T220500Z
UID:10146-1759190400-1759276799@christthevinelutheran.org
SUMMARY:PPC Meeting
DESCRIPTION:
URL:https://christthevinelutheran.org/event/ppc-meeting/
LOCATION:Oregon
CATEGORIES:Meetings
END:VEVENT
END:VCALENDAR