BEGIN:VCALENDAR
VERSION:2.0
PRODID:-//Christ the Vine Lutheran - ECPv6.15.16.1//NONSGML v1.0//EN
CALSCALE:GREGORIAN
METHOD:PUBLISH
X-WR-CALNAME:Christ the Vine Lutheran
X-ORIGINAL-URL:https://christthevinelutheran.org
X-WR-CALDESC:Events for Christ the Vine Lutheran
REFRESH-INTERVAL;VALUE=DURATION:PT1H
X-Robots-Tag:noindex
X-PUBLISHED-TTL:PT1H
BEGIN:VTIMEZONE
TZID:America/Los_Angeles
BEGIN:DAYLIGHT
TZOFFSETFROM:-0800
TZOFFSETTO:-0700
TZNAME:PDT
DTSTART:20240310T100000
END:DAYLIGHT
BEGIN:STANDARD
TZOFFSETFROM:-0700
TZOFFSETTO:-0800
TZNAME:PST
DTSTART:20241103T090000
END:STANDARD
BEGIN:DAYLIGHT
TZOFFSETFROM:-0800
TZOFFSETTO:-0700
TZNAME:PDT
DTSTART:20250309T100000
END:DAYLIGHT
BEGIN:STANDARD
TZOFFSETFROM:-0700
TZOFFSETTO:-0800
TZNAME:PST
DTSTART:20251102T090000
END:STANDARD
BEGIN:DAYLIGHT
TZOFFSETFROM:-0800
TZOFFSETTO:-0700
TZNAME:PDT
DTSTART:20260308T100000
END:DAYLIGHT
BEGIN:STANDARD
TZOFFSETFROM:-0700
TZOFFSETTO:-0800
TZNAME:PST
DTSTART:20261101T090000
END:STANDARD
BEGIN:DAYLIGHT
TZOFFSETFROM:-0800
TZOFFSETTO:-0700
TZNAME:PDT
DTSTART:20270314T100000
END:DAYLIGHT
BEGIN:STANDARD
TZOFFSETFROM:-0700
TZOFFSETTO:-0800
TZNAME:PST
DTSTART:20271107T090000
END:STANDARD
END:VTIMEZONE
BEGIN:VEVENT
DTSTART;TZID=America/Los_Angeles:20260405T080000
DTEND;TZID=America/Los_Angeles:20260405T170000
DTSTAMP:20260423T144150
CREATED:20260125T224809Z
LAST-MODIFIED:20260201T050609Z
UID:10794-1775376000-1775408400@christthevinelutheran.org
SUMMARY:Easter Services
DESCRIPTION:He is Risen! Join us to celebrate!\n\nWe offer two worship services. Both services include our brass band and choir.\n\n 	8 am service with communion\n 	11 am service featuring puppets.\n\nBetween services\, breakfast is available 9:30 am – 11 am\n\nChildren are invited to participate in our Easter egg hunt at 10 am.\n\nWe look forward to celebrating the resurrection with you!
URL:https://christthevinelutheran.org/event/easter-services/
LOCATION:Christ the Vine Lutheran Church\, 18677 SE Hwy 212\, Damascus\, Oregon\, 97089\, United States
CATEGORIES:Family Activities,Worship Service
ATTACH;FMTTYPE=image/png:https://christthevinelutheran.org/wp-content/uploads/2026/01/lcms-media-kit-holy-week-we-preach-christ-crucified-option-a-social-media-shareable-easter-e1769381369838.png
END:VEVENT
BEGIN:VEVENT
DTSTART;TZID=America/Los_Angeles:20260224T100000
DTEND;TZID=America/Los_Angeles:20260224T120000
DTSTAMP:20260423T144150
CREATED:20260125T221416Z
LAST-MODIFIED:20260125T221416Z
UID:10759-1771927200-1771934400@christthevinelutheran.org
SUMMARY:Christ the Vine Quilters
DESCRIPTION:
URL:https://christthevinelutheran.org/event/christ-the-vine-quilters-11/
LOCATION:Christ the Vine Lutheran Church\, 18677 SE Hwy 212\, Damascus\, Oregon\, 97089\, United States
CATEGORIES:Family Activities
END:VEVENT
BEGIN:VEVENT
DTSTART;TZID=America/Los_Angeles:20260217T100000
DTEND;TZID=America/Los_Angeles:20260217T120000
DTSTAMP:20260423T144150
CREATED:20260125T221335Z
LAST-MODIFIED:20260125T221335Z
UID:10757-1771322400-1771329600@christthevinelutheran.org
SUMMARY:Christ the Vine Quilters
DESCRIPTION:
URL:https://christthevinelutheran.org/event/christ-the-vine-quilters-10/
LOCATION:Christ the Vine Lutheran Church\, 18677 SE Hwy 212\, Damascus\, Oregon\, 97089\, United States
CATEGORIES:Family Activities
END:VEVENT
BEGIN:VEVENT
DTSTART;TZID=America/Los_Angeles:20260210T100000
DTEND;TZID=America/Los_Angeles:20260210T120000
DTSTAMP:20260423T144150
CREATED:20260125T221310Z
LAST-MODIFIED:20260125T221310Z
UID:10755-1770717600-1770724800@christthevinelutheran.org
SUMMARY:Christ the Vine Quilters
DESCRIPTION:
URL:https://christthevinelutheran.org/event/christ-the-vine-quilters-9/
LOCATION:Christ the Vine Lutheran Church\, 18677 SE Hwy 212\, Damascus\, Oregon\, 97089\, United States
CATEGORIES:Family Activities
END:VEVENT
BEGIN:VEVENT
DTSTART;TZID=America/Los_Angeles:20260203T100000
DTEND;TZID=America/Los_Angeles:20260203T120000
DTSTAMP:20260423T144150
CREATED:20260125T221217Z
LAST-MODIFIED:20260125T221217Z
UID:10753-1770112800-1770120000@christthevinelutheran.org
SUMMARY:Christ the Vine Quilters
DESCRIPTION:
URL:https://christthevinelutheran.org/event/christ-the-vine-quilters-8/
LOCATION:Christ the Vine Lutheran Church\, 18677 SE Hwy 212\, Damascus\, Oregon\, 97089\, United States
CATEGORIES:Family Activities
END:VEVENT
BEGIN:VEVENT
DTSTART;TZID=America/Los_Angeles:20260127T100000
DTEND;TZID=America/Los_Angeles:20260127T120000
DTSTAMP:20260423T144150
CREATED:20251229T211607Z
LAST-MODIFIED:20251229T211607Z
UID:10575-1769508000-1769515200@christthevinelutheran.org
SUMMARY:Christ the Vine Quilters
DESCRIPTION:
URL:https://christthevinelutheran.org/event/christ-the-vine-quilters-7/
LOCATION:Christ the Vine Lutheran Church\, 18677 SE Hwy 212\, Damascus\, Oregon\, 97089\, United States
CATEGORIES:Family Activities
END:VEVENT
BEGIN:VEVENT
DTSTART;TZID=America/Los_Angeles:20260120T100000
DTEND;TZID=America/Los_Angeles:20260120T120000
DTSTAMP:20260423T144150
CREATED:20251229T211537Z
LAST-MODIFIED:20251229T211537Z
UID:10573-1768903200-1768910400@christthevinelutheran.org
SUMMARY:Christ the Vine Quilters
DESCRIPTION:
URL:https://christthevinelutheran.org/event/christ-the-vine-quilters-6/
LOCATION:Christ the Vine Lutheran Church\, 18677 SE Hwy 212\, Damascus\, Oregon\, 97089\, United States
CATEGORIES:Family Activities
END:VEVENT
BEGIN:VEVENT
DTSTART;TZID=America/Los_Angeles:20260106T100000
DTEND;TZID=America/Los_Angeles:20260106T120000
DTSTAMP:20260423T144150
CREATED:20251229T211438Z
LAST-MODIFIED:20251229T211458Z
UID:10571-1767693600-1767700800@christthevinelutheran.org
SUMMARY:Christ the Vine Quilters
DESCRIPTION:
URL:https://christthevinelutheran.org/event/christ-the-vine-quilters-5/
LOCATION:Christ the Vine Lutheran Church\, 18677 SE Hwy 212\, Damascus\, Oregon\, 97089\, United States
CATEGORIES:Family Activities
END:VEVENT
BEGIN:VEVENT
DTSTART;TZID=America/Los_Angeles:20251214T110000
DTEND;TZID=America/Los_Angeles:20251214T120000
DTSTAMP:20260423T144150
CREATED:20251026T221217Z
LAST-MODIFIED:20251026T221217Z
UID:10300-1765710000-1765713600@christthevinelutheran.org
SUMMARY:LWM Annual Cookie Walk
DESCRIPTION:
URL:https://christthevinelutheran.org/event/lwm-annual-cookie-walk/
LOCATION:Christ the Vine Lutheran Church\, 18677 SE Hwy 212\, Damascus\, Oregon\, 97089\, United States
CATEGORIES:Family Activities,Special Church Event,Women's Ministry
END:VEVENT
BEGIN:VEVENT
DTSTART;TZID=America/Los_Angeles:20251213T090000
DTEND;TZID=America/Los_Angeles:20251213T100000
DTSTAMP:20260423T144150
CREATED:20251102T224649Z
LAST-MODIFIED:20251102T224649Z
UID:10364-1765616400-1765620000@christthevinelutheran.org
SUMMARY:Backpack Buddies
DESCRIPTION:We pack weekend lunches for local kids.\n\nQuestions\, reach out to Mardie or call the Office.
URL:https://christthevinelutheran.org/event/backpack-buddies-2/
LOCATION:Christ the Vine Lutheran Church\, 18677 SE Hwy 212\, Damascus\, Oregon\, 97089\, United States
CATEGORIES:Family Activities,Mission & Outreach
END:VEVENT
BEGIN:VEVENT
DTSTART;TZID=America/Los_Angeles:20251206T150000
DTEND;TZID=America/Los_Angeles:20251206T170000
DTSTAMP:20260423T144150
CREATED:20250926T184100Z
LAST-MODIFIED:20251026T220922Z
UID:10126-1765033200-1765040400@christthevinelutheran.org
SUMMARY:The Wonder of Christmas Tour: Liberty Men's Quartet
DESCRIPTION:Liberty Quartet was founded in October of 1995 out of a local church in Boise\, Idaho. Royce Mitchell was the choir director\, and the other three members were in the choir. In 1997\, Liberty began traveling full-time. Liberty is celebrating God’s faithfulness and over two decades of ministry.\n\nLiberty is a Gospel group based in the West with a full-time concert schedule. The members of Liberty are:\n\n 	Royce Mitchell\, bass\n 	Paul W. Ellis\, lead\n 	Will Arasmith\, baritone\n 	Doran Ritchey\, piano/baritone; and\n 	Peyton Olive\, tenor
URL:https://christthevinelutheran.org/event/mens-quartet/
LOCATION:Christ the Vine Lutheran Church\, 18677 SE Hwy 212\, Damascus\, Oregon\, 97089\, United States
CATEGORIES:Family Activities,Special Church Event
END:VEVENT
BEGIN:VEVENT
DTSTART;TZID=America/Los_Angeles:20251205T170000
DTEND;TZID=America/Los_Angeles:20251205T190000
DTSTAMP:20260423T144150
CREATED:20250926T185110Z
LAST-MODIFIED:20251026T221813Z
UID:10128-1764954000-1764961200@christthevinelutheran.org
SUMMARY:ZooLights Church Night Out
DESCRIPTION:Bundle up and join your church family for a magical evening at Oregon ZooLights! Experience the wonder of the season as we stroll through dazzling light displays\, enjoy festive entertainment\, and create memories together.\n\nPlease purchase your own tickets to enter the Zoo at 5 pm.\n\nWe will meet as a group just past the ticket entry at the Mountain Goats at 5:05 pm.
URL:https://christthevinelutheran.org/event/zoolights-church-night-out/
LOCATION:Oregon Zoo\, 4001 SW Canyon Rd\, Portland\, OR\, 97221\, United States
CATEGORIES:Family Activities
ATTACH;FMTTYPE=image/jpeg:https://christthevinelutheran.org/wp-content/uploads/2025/10/e2f1ac94-a18a-4e2a-8b24-d8b2a09f9c50-large16x9_received_2086321155061409-e1761517086948.jpeg
END:VEVENT
BEGIN:VEVENT
DTSTART;TZID=America/Los_Angeles:20251125T100000
DTEND;TZID=America/Los_Angeles:20251125T120000
DTSTAMP:20260423T144150
CREATED:20251026T215940Z
LAST-MODIFIED:20251026T215940Z
UID:10294-1764064800-1764072000@christthevinelutheran.org
SUMMARY:Christ the Vine Quilters
DESCRIPTION:
URL:https://christthevinelutheran.org/event/christ-the-vine-quilters-4/
LOCATION:Christ the Vine Lutheran Church\, 18677 SE Hwy 212\, Damascus\, Oregon\, 97089\, United States
CATEGORIES:Family Activities,Meetings
END:VEVENT
BEGIN:VEVENT
DTSTART;TZID=America/Los_Angeles:20251118T080000
DTEND;TZID=America/Los_Angeles:20251118T170000
DTSTAMP:20260423T144150
CREATED:20251026T215904Z
LAST-MODIFIED:20251026T215904Z
UID:10292-1763452800-1763485200@christthevinelutheran.org
SUMMARY:Christ the Vine Quilters
DESCRIPTION:
URL:https://christthevinelutheran.org/event/christ-the-vine-quilters-3/
LOCATION:Christ the Vine Lutheran Church\, 18677 SE Hwy 212\, Damascus\, Oregon\, 97089\, United States
CATEGORIES:Family Activities,Meetings
END:VEVENT
BEGIN:VEVENT
DTSTART;TZID=America/Los_Angeles:20251115T130000
DTEND;TZID=America/Los_Angeles:20251115T160000
DTSTAMP:20260423T144150
CREATED:20250926T181346Z
LAST-MODIFIED:20251026T224622Z
UID:10118-1763211600-1763222400@christthevinelutheran.org
SUMMARY:Game On! Family Afternoon
DESCRIPTION:Bring the whole family for an afternoon of laughter\, friendly competition\, and fellowship! Whether you’re a board game strategist\, card game champion\, or just love to have fun\, there’s something for everyone. \nWhat We’ll Have: \n\n\n 	Classic board games for all ages\n 	Card games and puzzles\n 	Interactive group games\n 	Games for toddlers and teens alike\n 	Snacks and refreshments\n\nBring your favorite game to share!
URL:https://christthevinelutheran.org/event/game-on-family-afternoon/
LOCATION:Christ the Vine Lutheran Church\, 18677 SE Hwy 212\, Damascus\, Oregon\, 97089\, United States
CATEGORIES:Family Activities
ATTACH;FMTTYPE=image/png:https://christthevinelutheran.org/wp-content/uploads/2025/09/untitled-design-13.png
END:VEVENT
BEGIN:VEVENT
DTSTART;TZID=America/Los_Angeles:20251108T090000
DTEND;TZID=America/Los_Angeles:20251108T100000
DTSTAMP:20260423T144150
CREATED:20251102T224605Z
LAST-MODIFIED:20251102T224605Z
UID:10362-1762592400-1762596000@christthevinelutheran.org
SUMMARY:Backpack Buddies
DESCRIPTION:We pack weekend lunches for local kids.\n\nQuestions\, reach out to Mardie or call the Office.
URL:https://christthevinelutheran.org/event/backpack-buddies/
LOCATION:Christ the Vine Lutheran Church\, 18677 SE Hwy 212\, Damascus\, Oregon\, 97089\, United States
CATEGORIES:Family Activities,Mission & Outreach
END:VEVENT
BEGIN:VEVENT
DTSTART;TZID=America/Los_Angeles:20251107T120000
DTEND;TZID=America/Los_Angeles:20251107T133000
DTSTAMP:20260423T144150
CREATED:20250926T181019Z
LAST-MODIFIED:20250926T181019Z
UID:10116-1762516800-1762522200@christthevinelutheran.org
SUMMARY:Fill A Stocking
DESCRIPTION:Join us for our annual Fill a Stocking event as we spread Christmas joy to children in our community! This beloved tradition brings our school and congregation together to ensure every child has a special Christmas morning.
URL:https://christthevinelutheran.org/event/fill-a-stocking/
LOCATION:Christ the Vine Lutheran Church\, 18677 SE Hwy 212\, Damascus\, Oregon\, 97089\, United States
CATEGORIES:Family Activities,School Event
END:VEVENT
BEGIN:VEVENT
DTSTART;TZID=America/Los_Angeles:20251104T100000
DTEND;TZID=America/Los_Angeles:20251104T120000
DTSTAMP:20260423T144150
CREATED:20251026T215826Z
LAST-MODIFIED:20251026T215826Z
UID:10290-1762250400-1762257600@christthevinelutheran.org
SUMMARY:Christ the Vine Quilters
DESCRIPTION:
URL:https://christthevinelutheran.org/event/christ-the-vine-quilters-2/
LOCATION:Christ the Vine Lutheran Church\, 18677 SE Hwy 212\, Damascus\, Oregon\, 97089\, United States
CATEGORIES:Family Activities,Meetings
END:VEVENT
BEGIN:VEVENT
DTSTART;TZID=America/Los_Angeles:20251028T100000
DTEND;TZID=America/Los_Angeles:20251028T120000
DTSTAMP:20260423T144150
CREATED:20251026T215605Z
LAST-MODIFIED:20251026T215605Z
UID:10288-1761645600-1761652800@christthevinelutheran.org
SUMMARY:Christ the Vine Quilters
DESCRIPTION:
URL:https://christthevinelutheran.org/event/christ-the-vine-quilters/
LOCATION:Christ the Vine Lutheran Church\, 18677 SE Hwy 212\, Damascus\, Oregon\, 97089\, United States
CATEGORIES:Family Activities,Meetings
END:VEVENT
BEGIN:VEVENT
DTSTART;TZID=America/Los_Angeles:20251011T090000
DTEND;TZID=America/Los_Angeles:20251011T150000
DTSTAMP:20260423T144150
CREATED:20250926T192811Z
LAST-MODIFIED:20250926T192811Z
UID:10142-1760173200-1760194800@christthevinelutheran.org
SUMMARY:Grape Harvest & Wine Bottling- Join Us in the Vineyard!
DESCRIPTION:Our grapes are ready for harvest! If you’re curious about how we gather the fruit and craft our wine\, this is a wonderful opportunity to join us and experience the process firsthand. Come be part of this hands-on tradition as we work together to bring in the harvest.\nWhether you’re experienced with grape harvesting or completely new to the process\, all are welcome! Bring gloves\, clippers\, and a bucket. We’ll provide guidance and plenty of fellowship as we work side by side. This is a great chance to learn about winemaking while enjoying community with fellow church members. \nPlease note: Date may shift depending on how the fruit has ripened – we’ll keep you updated as harvest time approaches.
URL:https://christthevinelutheran.org/event/grape-harvest-wine-bottling-join-us-in-the-vineyard/
LOCATION:Christ the Vine Lutheran Church\, 18677 SE Hwy 212\, Damascus\, Oregon\, 97089\, United States
CATEGORIES:Family Activities,Special Church Event
END:VEVENT
BEGIN:VEVENT
DTSTART;TZID=America/Los_Angeles:20250920T140000
DTEND;TZID=America/Los_Angeles:20250920T170000
DTSTAMP:20260423T144150
CREATED:20250926T175033Z
LAST-MODIFIED:20250926T175033Z
UID:10098-1758376800-1758387600@christthevinelutheran.org
SUMMARY:2025 VBS Reunion: True North
DESCRIPTION:Ascension\, Beautiful Savior\, and Christ the Vine Lutheran Churches are inviting all our VBS kids back to reconnect and celebrate the friendships and faith we shared this summer!\nDidn’t attend VBS this year? No problem\, join us anyway!
URL:https://christthevinelutheran.org/event/2025-vbs-reunion-true-north/
LOCATION:Christ the Vine Lutheran Church\, 18677 SE Hwy 212\, Damascus\, Oregon\, 97089\, United States
CATEGORIES:Family Activities,Youth Ministry
END:VEVENT
END:VCALENDAR