BEGIN:VCALENDAR
VERSION:2.0
PRODID:-//Christ the Vine Lutheran - ECPv6.15.16.1//NONSGML v1.0//EN
CALSCALE:GREGORIAN
METHOD:PUBLISH
X-ORIGINAL-URL:https://christthevinelutheran.org
X-WR-CALDESC:Events for Christ the Vine Lutheran
REFRESH-INTERVAL;VALUE=DURATION:PT1H
X-Robots-Tag:noindex
X-PUBLISHED-TTL:PT1H
BEGIN:VTIMEZONE
TZID:America/Los_Angeles
BEGIN:DAYLIGHT
TZOFFSETFROM:-0800
TZOFFSETTO:-0700
TZNAME:PDT
DTSTART:20240310T100000
END:DAYLIGHT
BEGIN:STANDARD
TZOFFSETFROM:-0700
TZOFFSETTO:-0800
TZNAME:PST
DTSTART:20241103T090000
END:STANDARD
BEGIN:DAYLIGHT
TZOFFSETFROM:-0800
TZOFFSETTO:-0700
TZNAME:PDT
DTSTART:20250309T100000
END:DAYLIGHT
BEGIN:STANDARD
TZOFFSETFROM:-0700
TZOFFSETTO:-0800
TZNAME:PST
DTSTART:20251102T090000
END:STANDARD
BEGIN:DAYLIGHT
TZOFFSETFROM:-0800
TZOFFSETTO:-0700
TZNAME:PDT
DTSTART:20260308T100000
END:DAYLIGHT
BEGIN:STANDARD
TZOFFSETFROM:-0700
TZOFFSETTO:-0800
TZNAME:PST
DTSTART:20261101T090000
END:STANDARD
END:VTIMEZONE
BEGIN:VEVENT
DTSTART;TZID=America/Los_Angeles:20251024T160000
DTEND;TZID=America/Los_Angeles:20251024T170000
DTSTAMP:20260424T004639
CREATED:20251016T001207Z
LAST-MODIFIED:20251016T001254Z
UID:10212-1761321600-1761325200@christthevinelutheran.org
SUMMARY:BranchOut Youth
DESCRIPTION:🍇BranchOut Youth – Monthly Youth Group\nJoin us for the launch of BranchOut Youth\, our new monthly gathering for students in grades 6-12!\nWhat to Expect\nBranchOut Youth is a fun\, welcoming space where middle and high school students can connect with friends\, grow in faith\, and make a difference! Each month includes:\n\n 	Connecting with friends\, old and new\n 	Growing in your faith through engaging Bible studies\n 	Serving our community through hands-on projects\n 	Playing epic games and activities\n 	Being yourself in a welcoming\, judgment-free zone\n\nWhether you’re new to church or have been coming for years\, BranchOut is YOUR place to be yourself\, ask questions\, and grow together.\n\nThis October marks our very first meeting! Come be part of something new and help us launch this exciting ministry.\n\nBring a friend and get ready for an awesome time!\n\nQuestions? Contact Megan edu.board.christthevine@gmail.com 
URL:https://christthevinelutheran.org/event/branchout-youth/
LOCATION:Christ the Vine Lutheran Church\, 18677 SE Hwy 212\, Damascus\, Oregon\, 97089\, United States
END:VEVENT
END:VCALENDAR